BEGIN:VCALENDAR
VERSION:2.0
PRODID:-//Iglesia Evangélica Bautista de Jaén - ECPv6.15.12.2//NONSGML v1.0//EN
CALSCALE:GREGORIAN
METHOD:PUBLISH
X-WR-CALNAME:Iglesia Evangélica Bautista de Jaén
X-ORIGINAL-URL:https://iebjaen.org
X-WR-CALDESC:Eventos para Iglesia Evangélica Bautista de Jaén
REFRESH-INTERVAL;VALUE=DURATION:PT1H
X-Robots-Tag:noindex
X-PUBLISHED-TTL:PT1H
BEGIN:VTIMEZONE
TZID:Europe/Madrid
BEGIN:DAYLIGHT
TZOFFSETFROM:+0100
TZOFFSETTO:+0200
TZNAME:CEST
DTSTART:20240331T010000
END:DAYLIGHT
BEGIN:STANDARD
TZOFFSETFROM:+0200
TZOFFSETTO:+0100
TZNAME:CET
DTSTART:20241027T010000
END:STANDARD
BEGIN:DAYLIGHT
TZOFFSETFROM:+0100
TZOFFSETTO:+0200
TZNAME:CEST
DTSTART:20250330T010000
END:DAYLIGHT
BEGIN:STANDARD
TZOFFSETFROM:+0200
TZOFFSETTO:+0100
TZNAME:CET
DTSTART:20251026T010000
END:STANDARD
BEGIN:DAYLIGHT
TZOFFSETFROM:+0100
TZOFFSETTO:+0200
TZNAME:CEST
DTSTART:20260329T010000
END:DAYLIGHT
BEGIN:STANDARD
TZOFFSETFROM:+0200
TZOFFSETTO:+0100
TZNAME:CET
DTSTART:20261025T010000
END:STANDARD
END:VTIMEZONE
BEGIN:VEVENT
DTSTART;TZID=Europe/Madrid:20251002T190000
DTEND;TZID=Europe/Madrid:20251002T200000
DTSTAMP:20260421T212631
CREATED:20250331T071057Z
LAST-MODIFIED:20250407T095803Z
UID:10000890-1759431600-1759435200@iebjaen.org
SUMMARY:Culto de oración
DESCRIPTION:
URL:https://iebjaen.org/evento/estudio-biblico-2/2025-10-02/
LOCATION:Iglesia Evangélica Bautista de Jaén\, C/ Jesús de Nazaret\, 8\, Jaén\, 23009\, Spain
CATEGORIES:Estudio Bíblico
ATTACH;FMTTYPE=image/jpeg:https://iebjaen.org/wp-content/uploads/2025/03/WhatsApp-Image-2025-04-07-at-11.55.46.jpeg
END:VEVENT
BEGIN:VEVENT
DTSTART;TZID=Europe/Madrid:20251004T100000
DTEND;TZID=Europe/Madrid:20251004T120000
DTSTAMP:20260421T212631
CREATED:20250923T164241Z
LAST-MODIFIED:20250923T164241Z
UID:10001292-1759572000-1759579200@iebjaen.org
SUMMARY:Jornada de mantenimiento
DESCRIPTION:Abierto a todos los voluntarios que quieran servir en tareas de orden\, mantenimiento y limpieza del local.
URL:https://iebjaen.org/evento/jornada-de-mantenimiento/
LOCATION:Iglesia Evangélica Bautista de Jaén\, C/ Jesús de Nazaret\, 8\, Jaén\, 23009\, Spain
END:VEVENT
BEGIN:VEVENT
DTSTART;TZID=Europe/Madrid:20251005T112500
DTEND;TZID=Europe/Madrid:20251005T140000
DTSTAMP:20260421T212631
CREATED:20250325T095505Z
LAST-MODIFIED:20250407T102601Z
UID:10000351-1759663500-1759672800@iebjaen.org
SUMMARY:Culto de Adoración
DESCRIPTION:
URL:https://iebjaen.org/evento/culto-de-adoracion/2025-10-05/
LOCATION:Iglesia Evangélica Bautista de Jaén\, C/ Jesús de Nazaret\, 8\, Jaén\, 23009\, Spain
CATEGORIES:Culto de Adoración
ATTACH;FMTTYPE=image/jpeg:https://iebjaen.org/wp-content/uploads/2025/03/WhatsApp-Image-2025-04-07-at-12.24.22-1.jpeg
END:VEVENT
BEGIN:VEVENT
DTSTART;TZID=Europe/Madrid:20251005T140000
DTEND;TZID=Europe/Madrid:20251005T190000
DTSTAMP:20260421T212631
CREATED:20250923T164440Z
LAST-MODIFIED:20250923T164440Z
UID:10001305-1759672800-1759690800@iebjaen.org
SUMMARY:Reunión de Adolescentes
DESCRIPTION:
URL:https://iebjaen.org/evento/reunion-de-adolescentes-5/
LOCATION:Iglesia Evangélica Bautista de Jaén\, C/ Jesús de Nazaret\, 8\, Jaén\, 23009\, Spain
CATEGORIES:Adolescentes
END:VEVENT
BEGIN:VEVENT
DTSTART;TZID=Europe/Madrid:20251009T190000
DTEND;TZID=Europe/Madrid:20251009T200000
DTSTAMP:20260421T212631
CREATED:20250923T164340Z
LAST-MODIFIED:20250923T164341Z
UID:10001152-1760036400-1760040000@iebjaen.org
SUMMARY:CAMPAÑA ONN
DESCRIPTION:LANZAMIENTO DE LA CAMPAÑA OPERACIÓN NIÑO DE LA NAVIDAD 2025
URL:https://iebjaen.org/evento/estudio-biblico-4-2/
LOCATION:Iglesia Evangélica Bautista de Jaén\, C/ Jesús de Nazaret\, 8\, Jaén\, 23009\, Spain
ATTACH;FMTTYPE=image/webp:https://iebjaen.org/wp-content/uploads/2025/03/Estudio-Biblico-Jueves.webp
END:VEVENT
BEGIN:VEVENT
DTSTART;TZID=Europe/Madrid:20251012T112500
DTEND;TZID=Europe/Madrid:20251012T140000
DTSTAMP:20260421T212631
CREATED:20250325T095505Z
LAST-MODIFIED:20250407T102601Z
UID:10000352-1760268300-1760277600@iebjaen.org
SUMMARY:Culto de Adoración
DESCRIPTION:
URL:https://iebjaen.org/evento/culto-de-adoracion/2025-10-12/
LOCATION:Iglesia Evangélica Bautista de Jaén\, C/ Jesús de Nazaret\, 8\, Jaén\, 23009\, Spain
CATEGORIES:Culto de Adoración
ATTACH;FMTTYPE=image/jpeg:https://iebjaen.org/wp-content/uploads/2025/03/WhatsApp-Image-2025-04-07-at-12.24.22-1.jpeg
END:VEVENT
BEGIN:VEVENT
DTSTART;TZID=Europe/Madrid:20251016T190000
DTEND;TZID=Europe/Madrid:20251016T200000
DTSTAMP:20260421T212631
CREATED:20250331T071057Z
LAST-MODIFIED:20250407T095803Z
UID:10000892-1760641200-1760644800@iebjaen.org
SUMMARY:Culto de oración
DESCRIPTION:
URL:https://iebjaen.org/evento/estudio-biblico-2/2025-10-16/
LOCATION:Iglesia Evangélica Bautista de Jaén\, C/ Jesús de Nazaret\, 8\, Jaén\, 23009\, Spain
CATEGORIES:Estudio Bíblico
ATTACH;FMTTYPE=image/jpeg:https://iebjaen.org/wp-content/uploads/2025/03/WhatsApp-Image-2025-04-07-at-11.55.46.jpeg
END:VEVENT
BEGIN:VEVENT
DTSTART;VALUE=DATE:20251018
DTEND;VALUE=DATE:20251019
DTSTAMP:20260421T212631
CREATED:20250923T164523Z
LAST-MODIFIED:20250923T164523Z
UID:10001306-1760745600-1760831999@iebjaen.org
SUMMARY:REUNIÓN HOMBRES
DESCRIPTION:
URL:https://iebjaen.org/evento/reunion-hombres/
LOCATION:Iglesia Evangélica Bautista de Jaén\, C/ Jesús de Nazaret\, 8\, Jaén\, 23009\, Spain
CATEGORIES:Hombres
END:VEVENT
BEGIN:VEVENT
DTSTART;VALUE=DATE:20251018
DTEND;VALUE=DATE:20251019
DTSTAMP:20260421T212631
CREATED:20250923T164556Z
LAST-MODIFIED:20250923T164556Z
UID:10001307-1760745600-1760831999@iebjaen.org
SUMMARY:REUNIÓN JÓVENES
DESCRIPTION:
URL:https://iebjaen.org/evento/reunion-jovenes-2/
LOCATION:Iglesia Evangélica Bautista de Jaén\, C/ Jesús de Nazaret\, 8\, Jaén\, 23009\, Spain
END:VEVENT
BEGIN:VEVENT
DTSTART;VALUE=DATE:20251018
DTEND;VALUE=DATE:20251019
DTSTAMP:20260421T212631
CREATED:20250923T164616Z
LAST-MODIFIED:20250923T164616Z
UID:10001308-1760745600-1760831999@iebjaen.org
SUMMARY:REUNIÓN MUJERES
DESCRIPTION:
URL:https://iebjaen.org/evento/reunion-mujeres/
LOCATION:Iglesia Evangélica Bautista de Jaén\, C/ Jesús de Nazaret\, 8\, Jaén\, 23009\, Spain
CATEGORIES:Mujeres
END:VEVENT
BEGIN:VEVENT
DTSTART;TZID=Europe/Madrid:20251019T112500
DTEND;TZID=Europe/Madrid:20251019T140000
DTSTAMP:20260421T212631
CREATED:20250325T095505Z
LAST-MODIFIED:20250407T102601Z
UID:10000353-1760873100-1760882400@iebjaen.org
SUMMARY:Culto de Adoración
DESCRIPTION:
URL:https://iebjaen.org/evento/culto-de-adoracion/2025-10-19/
LOCATION:Iglesia Evangélica Bautista de Jaén\, C/ Jesús de Nazaret\, 8\, Jaén\, 23009\, Spain
CATEGORIES:Culto de Adoración
ATTACH;FMTTYPE=image/jpeg:https://iebjaen.org/wp-content/uploads/2025/03/WhatsApp-Image-2025-04-07-at-12.24.22-1.jpeg
END:VEVENT
BEGIN:VEVENT
DTSTART;TZID=Europe/Madrid:20251023T190000
DTEND;TZID=Europe/Madrid:20251023T200000
DTSTAMP:20260421T212631
CREATED:20250923T164733Z
LAST-MODIFIED:20250923T164830Z
UID:10001153-1761246000-1761249600@iebjaen.org
SUMMARY:Culto de oración
DESCRIPTION:
URL:https://iebjaen.org/evento/estudio-biblico-4-3/
LOCATION:Iglesia Evangélica Bautista de Jaén\, C/ Jesús de Nazaret\, 8\, Jaén\, 23009\, Spain
ATTACH;FMTTYPE=image/jpeg:https://iebjaen.org/wp-content/uploads/2025/03/WhatsApp-Image-2025-04-07-at-11.55.46.jpeg
END:VEVENT
BEGIN:VEVENT
DTSTART;TZID=Europe/Madrid:20251026T112500
DTEND;TZID=Europe/Madrid:20251026T140000
DTSTAMP:20260421T212631
CREATED:20250325T095505Z
LAST-MODIFIED:20250407T102601Z
UID:10000354-1761477900-1761487200@iebjaen.org
SUMMARY:Culto de Adoración
DESCRIPTION:
URL:https://iebjaen.org/evento/culto-de-adoracion/2025-10-26/
LOCATION:Iglesia Evangélica Bautista de Jaén\, C/ Jesús de Nazaret\, 8\, Jaén\, 23009\, Spain
CATEGORIES:Culto de Adoración
ATTACH;FMTTYPE=image/jpeg:https://iebjaen.org/wp-content/uploads/2025/03/WhatsApp-Image-2025-04-07-at-12.24.22-1.jpeg
END:VEVENT
BEGIN:VEVENT
DTSTART;TZID=Europe/Madrid:20251030T190000
DTEND;TZID=Europe/Madrid:20251030T200000
DTSTAMP:20260421T212631
CREATED:20250331T071057Z
LAST-MODIFIED:20250407T095803Z
UID:10000894-1761850800-1761854400@iebjaen.org
SUMMARY:Culto de oración
DESCRIPTION:
URL:https://iebjaen.org/evento/estudio-biblico-2/2025-10-30/
LOCATION:Iglesia Evangélica Bautista de Jaén\, C/ Jesús de Nazaret\, 8\, Jaén\, 23009\, Spain
CATEGORIES:Estudio Bíblico
ATTACH;FMTTYPE=image/jpeg:https://iebjaen.org/wp-content/uploads/2025/03/WhatsApp-Image-2025-04-07-at-11.55.46.jpeg
END:VEVENT
END:VCALENDAR