BEGIN:VCALENDAR
VERSION:2.0
PRODID:-//Iglesia Evangélica Bautista de Jaén - ECPv6.15.12.2//NONSGML v1.0//EN
CALSCALE:GREGORIAN
METHOD:PUBLISH
X-ORIGINAL-URL:https://iebjaen.org
X-WR-CALDESC:Eventos para Iglesia Evangélica Bautista de Jaén
REFRESH-INTERVAL;VALUE=DURATION:PT1H
X-Robots-Tag:noindex
X-PUBLISHED-TTL:PT1H
BEGIN:VTIMEZONE
TZID:Europe/Madrid
BEGIN:DAYLIGHT
TZOFFSETFROM:+0100
TZOFFSETTO:+0200
TZNAME:CEST
DTSTART:20240331T010000
END:DAYLIGHT
BEGIN:STANDARD
TZOFFSETFROM:+0200
TZOFFSETTO:+0100
TZNAME:CET
DTSTART:20241027T010000
END:STANDARD
BEGIN:DAYLIGHT
TZOFFSETFROM:+0100
TZOFFSETTO:+0200
TZNAME:CEST
DTSTART:20250330T010000
END:DAYLIGHT
BEGIN:STANDARD
TZOFFSETFROM:+0200
TZOFFSETTO:+0100
TZNAME:CET
DTSTART:20251026T010000
END:STANDARD
BEGIN:DAYLIGHT
TZOFFSETFROM:+0100
TZOFFSETTO:+0200
TZNAME:CEST
DTSTART:20260329T010000
END:DAYLIGHT
BEGIN:STANDARD
TZOFFSETFROM:+0200
TZOFFSETTO:+0100
TZNAME:CET
DTSTART:20261025T010000
END:STANDARD
END:VTIMEZONE
BEGIN:VEVENT
DTSTART;VALUE=DATE:20250501
DTEND;VALUE=DATE:20250502
DTSTAMP:20260422T054514
CREATED:20250324T161105Z
LAST-MODIFIED:20250407T101410Z
UID:10000065-1746057600-1746143999@iebjaen.org
SUMMARY:Encuentro iglesias AIBAE
DESCRIPTION:Dos Hermanas\, Sevilla
URL:https://iebjaen.org/evento/encontro-iglesias-aibae/
LOCATION:Ciudad del Conocimiento\, Miguel Manaute s/n\, Dos Hermanas\, Sevilla\, 41704
CATEGORIES:Encontro
END:VEVENT
BEGIN:VEVENT
DTSTART;VALUE=DATE:20250503
DTEND;VALUE=DATE:20250504
DTSTAMP:20260422T054514
CREATED:20250407T155437Z
LAST-MODIFIED:20250407T155437Z
UID:10001285-1746230400-1746316799@iebjaen.org
SUMMARY:Reunión de Hombres
DESCRIPTION:
URL:https://iebjaen.org/evento/reunion-de-hombres-2/
LOCATION:Iglesia Evangélica Bautista de Jaén\, C/ Jesús de Nazaret\, 8\, Jaén\, 23009\, Spain
CATEGORIES:Hombres
END:VEVENT
BEGIN:VEVENT
DTSTART;TZID=Europe/Madrid:20250504T112500
DTEND;TZID=Europe/Madrid:20250504T140000
DTSTAMP:20260422T054514
CREATED:20250325T095505Z
LAST-MODIFIED:20250407T102601Z
UID:10001272-1746357900-1746367200@iebjaen.org
SUMMARY:Culto de Adoración
DESCRIPTION:
URL:https://iebjaen.org/evento/culto-de-adoracion/2025-05-04/
LOCATION:Iglesia Evangélica Bautista de Jaén\, C/ Jesús de Nazaret\, 8\, Jaén\, 23009\, Spain
CATEGORIES:Culto de Adoración
ATTACH;FMTTYPE=image/jpeg:https://iebjaen.org/wp-content/uploads/2025/03/WhatsApp-Image-2025-04-07-at-12.24.22-1.jpeg
END:VEVENT
BEGIN:VEVENT
DTSTART;TZID=Europe/Madrid:20250508T190000
DTEND;TZID=Europe/Madrid:20250508T200000
DTSTAMP:20260422T054514
CREATED:20250407T101755Z
LAST-MODIFIED:20250407T101755Z
UID:10001141-1746730800-1746734400@iebjaen.org
SUMMARY:Estudio Bíblico
DESCRIPTION:
URL:https://iebjaen.org/evento/estudio-biblico-4/2025-05-08/
LOCATION:Iglesia Evangélica Bautista de Jaén\, C/ Jesús de Nazaret\, 8\, Jaén\, 23009\, Spain
ATTACH;FMTTYPE=image/webp:https://iebjaen.org/wp-content/uploads/2025/03/Estudio-Biblico-Jueves.webp
END:VEVENT
BEGIN:VEVENT
DTSTART;VALUE=DATE:20250510
DTEND;VALUE=DATE:20250511
DTSTAMP:20260422T054514
CREATED:20250407T155904Z
LAST-MODIFIED:20250407T155904Z
UID:10001286-1746835200-1746921599@iebjaen.org
SUMMARY:Reunión de Jóvenes & Adolescentes
DESCRIPTION:
URL:https://iebjaen.org/evento/reunion-de-jovenes-adolescentes/
LOCATION:Iglesia Evangélica Bautista de Jaén\, C/ Jesús de Nazaret\, 8\, Jaén\, 23009\, Spain
CATEGORIES:Jovenes
ATTACH;FMTTYPE=image/jpeg:https://iebjaen.org/wp-content/uploads/2025/04/WhatsApp-Image-2025-04-07-at-17.57.52.jpeg
END:VEVENT
BEGIN:VEVENT
DTSTART;TZID=Europe/Madrid:20250511T112500
DTEND;TZID=Europe/Madrid:20250511T140000
DTSTAMP:20260422T054514
CREATED:20250325T095505Z
LAST-MODIFIED:20250407T102601Z
UID:10000330-1746962700-1746972000@iebjaen.org
SUMMARY:Culto de Adoración
DESCRIPTION:
URL:https://iebjaen.org/evento/culto-de-adoracion/2025-05-11/
LOCATION:Iglesia Evangélica Bautista de Jaén\, C/ Jesús de Nazaret\, 8\, Jaén\, 23009\, Spain
CATEGORIES:Culto de Adoración
ATTACH;FMTTYPE=image/jpeg:https://iebjaen.org/wp-content/uploads/2025/03/WhatsApp-Image-2025-04-07-at-12.24.22-1.jpeg
END:VEVENT
BEGIN:VEVENT
DTSTART;TZID=Europe/Madrid:20250515T190000
DTEND;TZID=Europe/Madrid:20250515T200000
DTSTAMP:20260422T054514
CREATED:20250331T071057Z
LAST-MODIFIED:20250407T095803Z
UID:10000870-1747335600-1747339200@iebjaen.org
SUMMARY:Culto de oración
DESCRIPTION:
URL:https://iebjaen.org/evento/estudio-biblico-2/2025-05-15/
LOCATION:Iglesia Evangélica Bautista de Jaén\, C/ Jesús de Nazaret\, 8\, Jaén\, 23009\, Spain
CATEGORIES:Estudio Bíblico
ATTACH;FMTTYPE=image/jpeg:https://iebjaen.org/wp-content/uploads/2025/03/WhatsApp-Image-2025-04-07-at-11.55.46.jpeg
END:VEVENT
BEGIN:VEVENT
DTSTART;VALUE=DATE:20250517
DTEND;VALUE=DATE:20250518
DTSTAMP:20260422T054514
CREATED:20250407T103153Z
LAST-MODIFIED:20250407T103218Z
UID:10001277-1747440000-1747526399@iebjaen.org
SUMMARY:Reunión de Adolescentes
DESCRIPTION:
URL:https://iebjaen.org/evento/reunion-de-adolescentes/
END:VEVENT
BEGIN:VEVENT
DTSTART;TZID=Europe/Madrid:20250517T170000
DTEND;TZID=Europe/Madrid:20250517T190000
DTSTAMP:20260422T054514
CREATED:20250325T114859Z
LAST-MODIFIED:20250325T115206Z
UID:10000590-1747501200-1747508400@iebjaen.org
SUMMARY:Reunión de Mujeres
DESCRIPTION:Te invitamos a nuestra reunión de mujeres cristianas\, un espacio de comunión\, oración y crecimiento espiritual. Nos reunimos para fortalecer nuestra fe\, compartir experiencias y edificarnos mutuamente en el amor de Cristo. \nVen y disfruta de un tiempo de enseñanza\, compañerismo y aliento en un ambiente de hermandad. ¡Te esperamos con los brazos abiertos! ✨🙏
URL:https://iebjaen.org/evento/reunion-de-mujeres-2/
LOCATION:Iglesia Evangélica Bautista de Jaén\, C/ Jesús de Nazaret\, 8\, Jaén\, 23009\, Spain
CATEGORIES:Mujeres
ATTACH;FMTTYPE=image/webp:https://iebjaen.org/wp-content/uploads/2025/03/Reuniao-de-Mujeres.webp
END:VEVENT
BEGIN:VEVENT
DTSTART;TZID=Europe/Madrid:20250518T112500
DTEND;TZID=Europe/Madrid:20250518T140000
DTSTAMP:20260422T054514
CREATED:20250325T095505Z
LAST-MODIFIED:20250407T102601Z
UID:10000331-1747567500-1747576800@iebjaen.org
SUMMARY:Culto de Adoración
DESCRIPTION:
URL:https://iebjaen.org/evento/culto-de-adoracion/2025-05-18/
LOCATION:Iglesia Evangélica Bautista de Jaén\, C/ Jesús de Nazaret\, 8\, Jaén\, 23009\, Spain
CATEGORIES:Culto de Adoración
ATTACH;FMTTYPE=image/jpeg:https://iebjaen.org/wp-content/uploads/2025/03/WhatsApp-Image-2025-04-07-at-12.24.22-1.jpeg
END:VEVENT
BEGIN:VEVENT
DTSTART;TZID=Europe/Madrid:20250522T190000
DTEND;TZID=Europe/Madrid:20250522T200000
DTSTAMP:20260422T054514
CREATED:20250407T101755Z
LAST-MODIFIED:20250407T101755Z
UID:10001142-1747940400-1747944000@iebjaen.org
SUMMARY:Estudio Bíblico
DESCRIPTION:
URL:https://iebjaen.org/evento/estudio-biblico-4/2025-05-22/
LOCATION:Iglesia Evangélica Bautista de Jaén\, C/ Jesús de Nazaret\, 8\, Jaén\, 23009\, Spain
ATTACH;FMTTYPE=image/webp:https://iebjaen.org/wp-content/uploads/2025/03/Estudio-Biblico-Jueves.webp
END:VEVENT
BEGIN:VEVENT
DTSTART;VALUE=DATE:20250524
DTEND;VALUE=DATE:20250525
DTSTAMP:20260422T054514
CREATED:20250407T103317Z
LAST-MODIFIED:20250407T103317Z
UID:10001278-1748044800-1748131199@iebjaen.org
SUMMARY:Reunión de Jóvenes
DESCRIPTION:
URL:https://iebjaen.org/evento/reunion-de-jovenes-3/
LOCATION:Iglesia Evangélica Bautista de Jaén\, C/ Jesús de Nazaret\, 8\, Jaén\, 23009\, Spain
CATEGORIES:Jovenes
ATTACH;FMTTYPE=image/jpeg:https://iebjaen.org/wp-content/uploads/2025/04/WhatsApp-Image-2025-04-07-at-12.11.33.jpeg
END:VEVENT
BEGIN:VEVENT
DTSTART;TZID=Europe/Madrid:20250525T112500
DTEND;TZID=Europe/Madrid:20250525T140000
DTSTAMP:20260422T054514
CREATED:20250325T095505Z
LAST-MODIFIED:20250407T102601Z
UID:10000332-1748172300-1748181600@iebjaen.org
SUMMARY:Culto de Adoración
DESCRIPTION:
URL:https://iebjaen.org/evento/culto-de-adoracion/2025-05-25/
LOCATION:Iglesia Evangélica Bautista de Jaén\, C/ Jesús de Nazaret\, 8\, Jaén\, 23009\, Spain
CATEGORIES:Culto de Adoración
ATTACH;FMTTYPE=image/jpeg:https://iebjaen.org/wp-content/uploads/2025/03/WhatsApp-Image-2025-04-07-at-12.24.22-1.jpeg
END:VEVENT
BEGIN:VEVENT
DTSTART;TZID=Europe/Madrid:20250529T190000
DTEND;TZID=Europe/Madrid:20250529T200000
DTSTAMP:20260422T054514
CREATED:20250331T071057Z
LAST-MODIFIED:20250407T095803Z
UID:10000872-1748545200-1748548800@iebjaen.org
SUMMARY:Culto de oración
DESCRIPTION:
URL:https://iebjaen.org/evento/estudio-biblico-2/2025-05-29/
LOCATION:Iglesia Evangélica Bautista de Jaén\, C/ Jesús de Nazaret\, 8\, Jaén\, 23009\, Spain
CATEGORIES:Estudio Bíblico
ATTACH;FMTTYPE=image/jpeg:https://iebjaen.org/wp-content/uploads/2025/03/WhatsApp-Image-2025-04-07-at-11.55.46.jpeg
END:VEVENT
BEGIN:VEVENT
DTSTART;VALUE=DATE:20250531
DTEND;VALUE=DATE:20250601
DTSTAMP:20260422T054514
CREATED:20250415T105150Z
LAST-MODIFIED:20250415T105150Z
UID:10001290-1748649600-1748735999@iebjaen.org
SUMMARY:Día de Fraternidad (salida de campo)
DESCRIPTION:Salida de campo al Paraje Natural de Almuradiel y ruta a la cascada de la Cimbarra (Aldeaquemada\, Jaén)
URL:https://iebjaen.org/evento/dia-de-fraternidad-salida-de-campo/
LOCATION:Iglesia Evangélica Bautista de Jaén\, C/ Jesús de Nazaret\, 8\, Jaén\, 23009\, Spain
ATTACH;FMTTYPE=image/jpeg:https://iebjaen.org/wp-content/uploads/2025/04/WhatsApp-Image-2025-04-15-at-12.50.32.jpeg
END:VEVENT
END:VCALENDAR