BEGIN:VCALENDAR
VERSION:2.0
PRODID:-//Iglesia Evangélica Bautista de Jaén - ECPv6.15.12.2//NONSGML v1.0//EN
CALSCALE:GREGORIAN
METHOD:PUBLISH
X-WR-CALNAME:Iglesia Evangélica Bautista de Jaén
X-ORIGINAL-URL:https://iebjaen.org
X-WR-CALDESC:Eventos para Iglesia Evangélica Bautista de Jaén
REFRESH-INTERVAL;VALUE=DURATION:PT1H
X-Robots-Tag:noindex
X-PUBLISHED-TTL:PT1H
BEGIN:VTIMEZONE
TZID:Europe/Madrid
BEGIN:DAYLIGHT
TZOFFSETFROM:+0100
TZOFFSETTO:+0200
TZNAME:CEST
DTSTART:20280326T010000
END:DAYLIGHT
BEGIN:STANDARD
TZOFFSETFROM:+0200
TZOFFSETTO:+0100
TZNAME:CET
DTSTART:20281029T010000
END:STANDARD
BEGIN:DAYLIGHT
TZOFFSETFROM:+0100
TZOFFSETTO:+0200
TZNAME:CEST
DTSTART:20290325T010000
END:DAYLIGHT
BEGIN:STANDARD
TZOFFSETFROM:+0200
TZOFFSETTO:+0100
TZNAME:CET
DTSTART:20291028T010000
END:STANDARD
BEGIN:DAYLIGHT
TZOFFSETFROM:+0100
TZOFFSETTO:+0200
TZNAME:CEST
DTSTART:20300331T010000
END:DAYLIGHT
BEGIN:STANDARD
TZOFFSETFROM:+0200
TZOFFSETTO:+0100
TZNAME:CET
DTSTART:20301027T010000
END:STANDARD
BEGIN:DAYLIGHT
TZOFFSETFROM:+0100
TZOFFSETTO:+0200
TZNAME:CEST
DTSTART:20310330T010000
END:DAYLIGHT
BEGIN:STANDARD
TZOFFSETFROM:+0200
TZOFFSETTO:+0100
TZNAME:CET
DTSTART:20311026T010000
END:STANDARD
END:VTIMEZONE
BEGIN:VEVENT
DTSTART;TZID=Europe/Madrid:20291118T112500
DTEND;TZID=Europe/Madrid:20291118T140000
DTSTAMP:20260424T073117
CREATED:20250325T095505Z
LAST-MODIFIED:20250407T102601Z
UID:10000566-1889695500-1889704800@iebjaen.org
SUMMARY:Culto de Adoración
DESCRIPTION:
URL:https://iebjaen.org/evento/culto-de-adoracion/2029-11-18/
LOCATION:Iglesia Evangélica Bautista de Jaén\, C/ Jesús de Nazaret\, 8\, Jaén\, 23009\, Spain
CATEGORIES:Culto de Adoración
ATTACH;FMTTYPE=image/jpeg:https://iebjaen.org/wp-content/uploads/2025/03/WhatsApp-Image-2025-04-07-at-12.24.22-1.jpeg
END:VEVENT
BEGIN:VEVENT
DTSTART;TZID=Europe/Madrid:20291122T190000
DTEND;TZID=Europe/Madrid:20291122T200000
DTSTAMP:20260424T073117
CREATED:20250331T071057Z
LAST-MODIFIED:20250407T095803Z
UID:10001106-1890068400-1890072000@iebjaen.org
SUMMARY:Culto de oración
DESCRIPTION:
URL:https://iebjaen.org/evento/estudio-biblico-2/2029-11-22/
LOCATION:Iglesia Evangélica Bautista de Jaén\, C/ Jesús de Nazaret\, 8\, Jaén\, 23009\, Spain
CATEGORIES:Estudio Bíblico
ATTACH;FMTTYPE=image/jpeg:https://iebjaen.org/wp-content/uploads/2025/03/WhatsApp-Image-2025-04-07-at-11.55.46.jpeg
END:VEVENT
BEGIN:VEVENT
DTSTART;TZID=Europe/Madrid:20291125T112500
DTEND;TZID=Europe/Madrid:20291125T140000
DTSTAMP:20260424T073117
CREATED:20250325T095505Z
LAST-MODIFIED:20250407T102601Z
UID:10000567-1890300300-1890309600@iebjaen.org
SUMMARY:Culto de Adoración
DESCRIPTION:
URL:https://iebjaen.org/evento/culto-de-adoracion/2029-11-25/
LOCATION:Iglesia Evangélica Bautista de Jaén\, C/ Jesús de Nazaret\, 8\, Jaén\, 23009\, Spain
CATEGORIES:Culto de Adoración
ATTACH;FMTTYPE=image/jpeg:https://iebjaen.org/wp-content/uploads/2025/03/WhatsApp-Image-2025-04-07-at-12.24.22-1.jpeg
END:VEVENT
BEGIN:VEVENT
DTSTART;TZID=Europe/Madrid:20291129T190000
DTEND;TZID=Europe/Madrid:20291129T200000
DTSTAMP:20260424T073117
CREATED:20250407T101755Z
LAST-MODIFIED:20250407T101755Z
UID:10001260-1890673200-1890676800@iebjaen.org
SUMMARY:Estudio Bíblico
DESCRIPTION:
URL:https://iebjaen.org/evento/estudio-biblico-4/2029-11-29/
LOCATION:Iglesia Evangélica Bautista de Jaén\, C/ Jesús de Nazaret\, 8\, Jaén\, 23009\, Spain
ATTACH;FMTTYPE=image/webp:https://iebjaen.org/wp-content/uploads/2025/03/Estudio-Biblico-Jueves.webp
END:VEVENT
BEGIN:VEVENT
DTSTART;TZID=Europe/Madrid:20291202T112500
DTEND;TZID=Europe/Madrid:20291202T140000
DTSTAMP:20260424T073117
CREATED:20250325T095505Z
LAST-MODIFIED:20250407T102601Z
UID:10000568-1890905100-1890914400@iebjaen.org
SUMMARY:Culto de Adoración
DESCRIPTION:
URL:https://iebjaen.org/evento/culto-de-adoracion/2029-12-02/
LOCATION:Iglesia Evangélica Bautista de Jaén\, C/ Jesús de Nazaret\, 8\, Jaén\, 23009\, Spain
CATEGORIES:Culto de Adoración
ATTACH;FMTTYPE=image/jpeg:https://iebjaen.org/wp-content/uploads/2025/03/WhatsApp-Image-2025-04-07-at-12.24.22-1.jpeg
END:VEVENT
BEGIN:VEVENT
DTSTART;TZID=Europe/Madrid:20291206T190000
DTEND;TZID=Europe/Madrid:20291206T200000
DTSTAMP:20260424T073117
CREATED:20250331T071057Z
LAST-MODIFIED:20250407T095803Z
UID:10001108-1891278000-1891281600@iebjaen.org
SUMMARY:Culto de oración
DESCRIPTION:
URL:https://iebjaen.org/evento/estudio-biblico-2/2029-12-06/
LOCATION:Iglesia Evangélica Bautista de Jaén\, C/ Jesús de Nazaret\, 8\, Jaén\, 23009\, Spain
CATEGORIES:Estudio Bíblico
ATTACH;FMTTYPE=image/jpeg:https://iebjaen.org/wp-content/uploads/2025/03/WhatsApp-Image-2025-04-07-at-11.55.46.jpeg
END:VEVENT
BEGIN:VEVENT
DTSTART;TZID=Europe/Madrid:20291209T112500
DTEND;TZID=Europe/Madrid:20291209T140000
DTSTAMP:20260424T073117
CREATED:20250325T095505Z
LAST-MODIFIED:20250407T102601Z
UID:10000569-1891509900-1891519200@iebjaen.org
SUMMARY:Culto de Adoración
DESCRIPTION:
URL:https://iebjaen.org/evento/culto-de-adoracion/2029-12-09/
LOCATION:Iglesia Evangélica Bautista de Jaén\, C/ Jesús de Nazaret\, 8\, Jaén\, 23009\, Spain
CATEGORIES:Culto de Adoración
ATTACH;FMTTYPE=image/jpeg:https://iebjaen.org/wp-content/uploads/2025/03/WhatsApp-Image-2025-04-07-at-12.24.22-1.jpeg
END:VEVENT
BEGIN:VEVENT
DTSTART;TZID=Europe/Madrid:20291213T190000
DTEND;TZID=Europe/Madrid:20291213T200000
DTSTAMP:20260424T073117
CREATED:20250407T101755Z
LAST-MODIFIED:20250407T101755Z
UID:10001261-1891882800-1891886400@iebjaen.org
SUMMARY:Estudio Bíblico
DESCRIPTION:
URL:https://iebjaen.org/evento/estudio-biblico-4/2029-12-13/
LOCATION:Iglesia Evangélica Bautista de Jaén\, C/ Jesús de Nazaret\, 8\, Jaén\, 23009\, Spain
ATTACH;FMTTYPE=image/webp:https://iebjaen.org/wp-content/uploads/2025/03/Estudio-Biblico-Jueves.webp
END:VEVENT
BEGIN:VEVENT
DTSTART;TZID=Europe/Madrid:20291216T112500
DTEND;TZID=Europe/Madrid:20291216T140000
DTSTAMP:20260424T073117
CREATED:20250325T095505Z
LAST-MODIFIED:20250407T102601Z
UID:10000570-1892114700-1892124000@iebjaen.org
SUMMARY:Culto de Adoración
DESCRIPTION:
URL:https://iebjaen.org/evento/culto-de-adoracion/2029-12-16/
LOCATION:Iglesia Evangélica Bautista de Jaén\, C/ Jesús de Nazaret\, 8\, Jaén\, 23009\, Spain
CATEGORIES:Culto de Adoración
ATTACH;FMTTYPE=image/jpeg:https://iebjaen.org/wp-content/uploads/2025/03/WhatsApp-Image-2025-04-07-at-12.24.22-1.jpeg
END:VEVENT
BEGIN:VEVENT
DTSTART;TZID=Europe/Madrid:20291220T190000
DTEND;TZID=Europe/Madrid:20291220T200000
DTSTAMP:20260424T073117
CREATED:20250331T071057Z
LAST-MODIFIED:20250407T095803Z
UID:10001110-1892487600-1892491200@iebjaen.org
SUMMARY:Culto de oración
DESCRIPTION:
URL:https://iebjaen.org/evento/estudio-biblico-2/2029-12-20/
LOCATION:Iglesia Evangélica Bautista de Jaén\, C/ Jesús de Nazaret\, 8\, Jaén\, 23009\, Spain
CATEGORIES:Estudio Bíblico
ATTACH;FMTTYPE=image/jpeg:https://iebjaen.org/wp-content/uploads/2025/03/WhatsApp-Image-2025-04-07-at-11.55.46.jpeg
END:VEVENT
BEGIN:VEVENT
DTSTART;TZID=Europe/Madrid:20291223T112500
DTEND;TZID=Europe/Madrid:20291223T140000
DTSTAMP:20260424T073117
CREATED:20250325T095505Z
LAST-MODIFIED:20250407T102601Z
UID:10000571-1892719500-1892728800@iebjaen.org
SUMMARY:Culto de Adoración
DESCRIPTION:
URL:https://iebjaen.org/evento/culto-de-adoracion/2029-12-23/
LOCATION:Iglesia Evangélica Bautista de Jaén\, C/ Jesús de Nazaret\, 8\, Jaén\, 23009\, Spain
CATEGORIES:Culto de Adoración
ATTACH;FMTTYPE=image/jpeg:https://iebjaen.org/wp-content/uploads/2025/03/WhatsApp-Image-2025-04-07-at-12.24.22-1.jpeg
END:VEVENT
BEGIN:VEVENT
DTSTART;TZID=Europe/Madrid:20291227T190000
DTEND;TZID=Europe/Madrid:20291227T200000
DTSTAMP:20260424T073117
CREATED:20250407T101755Z
LAST-MODIFIED:20250407T101755Z
UID:10001262-1893092400-1893096000@iebjaen.org
SUMMARY:Estudio Bíblico
DESCRIPTION:
URL:https://iebjaen.org/evento/estudio-biblico-4/2029-12-27/
LOCATION:Iglesia Evangélica Bautista de Jaén\, C/ Jesús de Nazaret\, 8\, Jaén\, 23009\, Spain
ATTACH;FMTTYPE=image/webp:https://iebjaen.org/wp-content/uploads/2025/03/Estudio-Biblico-Jueves.webp
END:VEVENT
BEGIN:VEVENT
DTSTART;TZID=Europe/Madrid:20291230T112500
DTEND;TZID=Europe/Madrid:20291230T140000
DTSTAMP:20260424T073117
CREATED:20250325T095505Z
LAST-MODIFIED:20250407T102601Z
UID:10000572-1893324300-1893333600@iebjaen.org
SUMMARY:Culto de Adoración
DESCRIPTION:
URL:https://iebjaen.org/evento/culto-de-adoracion/2029-12-30/
LOCATION:Iglesia Evangélica Bautista de Jaén\, C/ Jesús de Nazaret\, 8\, Jaén\, 23009\, Spain
CATEGORIES:Culto de Adoración
ATTACH;FMTTYPE=image/jpeg:https://iebjaen.org/wp-content/uploads/2025/03/WhatsApp-Image-2025-04-07-at-12.24.22-1.jpeg
END:VEVENT
BEGIN:VEVENT
DTSTART;TZID=Europe/Madrid:20300103T190000
DTEND;TZID=Europe/Madrid:20300103T200000
DTSTAMP:20260424T073117
CREATED:20250331T071057Z
LAST-MODIFIED:20250407T095803Z
UID:10001112-1893697200-1893700800@iebjaen.org
SUMMARY:Culto de oración
DESCRIPTION:
URL:https://iebjaen.org/evento/estudio-biblico-2/2030-01-03/
LOCATION:Iglesia Evangélica Bautista de Jaén\, C/ Jesús de Nazaret\, 8\, Jaén\, 23009\, Spain
CATEGORIES:Estudio Bíblico
ATTACH;FMTTYPE=image/jpeg:https://iebjaen.org/wp-content/uploads/2025/03/WhatsApp-Image-2025-04-07-at-11.55.46.jpeg
END:VEVENT
BEGIN:VEVENT
DTSTART;TZID=Europe/Madrid:20300106T112500
DTEND;TZID=Europe/Madrid:20300106T140000
DTSTAMP:20260424T073117
CREATED:20250325T095505Z
LAST-MODIFIED:20250407T102601Z
UID:10000573-1893929100-1893938400@iebjaen.org
SUMMARY:Culto de Adoración
DESCRIPTION:
URL:https://iebjaen.org/evento/culto-de-adoracion/2030-01-06/
LOCATION:Iglesia Evangélica Bautista de Jaén\, C/ Jesús de Nazaret\, 8\, Jaén\, 23009\, Spain
CATEGORIES:Culto de Adoración
ATTACH;FMTTYPE=image/jpeg:https://iebjaen.org/wp-content/uploads/2025/03/WhatsApp-Image-2025-04-07-at-12.24.22-1.jpeg
END:VEVENT
BEGIN:VEVENT
DTSTART;TZID=Europe/Madrid:20300110T190000
DTEND;TZID=Europe/Madrid:20300110T200000
DTSTAMP:20260424T073117
CREATED:20250407T101755Z
LAST-MODIFIED:20250407T101755Z
UID:10001263-1894302000-1894305600@iebjaen.org
SUMMARY:Estudio Bíblico
DESCRIPTION:
URL:https://iebjaen.org/evento/estudio-biblico-4/2030-01-10/
LOCATION:Iglesia Evangélica Bautista de Jaén\, C/ Jesús de Nazaret\, 8\, Jaén\, 23009\, Spain
ATTACH;FMTTYPE=image/webp:https://iebjaen.org/wp-content/uploads/2025/03/Estudio-Biblico-Jueves.webp
END:VEVENT
BEGIN:VEVENT
DTSTART;TZID=Europe/Madrid:20300113T112500
DTEND;TZID=Europe/Madrid:20300113T140000
DTSTAMP:20260424T073117
CREATED:20250325T095505Z
LAST-MODIFIED:20250407T102601Z
UID:10000574-1894533900-1894543200@iebjaen.org
SUMMARY:Culto de Adoración
DESCRIPTION:
URL:https://iebjaen.org/evento/culto-de-adoracion/2030-01-13/
LOCATION:Iglesia Evangélica Bautista de Jaén\, C/ Jesús de Nazaret\, 8\, Jaén\, 23009\, Spain
CATEGORIES:Culto de Adoración
ATTACH;FMTTYPE=image/jpeg:https://iebjaen.org/wp-content/uploads/2025/03/WhatsApp-Image-2025-04-07-at-12.24.22-1.jpeg
END:VEVENT
BEGIN:VEVENT
DTSTART;TZID=Europe/Madrid:20300117T190000
DTEND;TZID=Europe/Madrid:20300117T200000
DTSTAMP:20260424T073117
CREATED:20250331T071057Z
LAST-MODIFIED:20250407T095803Z
UID:10001114-1894906800-1894910400@iebjaen.org
SUMMARY:Culto de oración
DESCRIPTION:
URL:https://iebjaen.org/evento/estudio-biblico-2/2030-01-17/
LOCATION:Iglesia Evangélica Bautista de Jaén\, C/ Jesús de Nazaret\, 8\, Jaén\, 23009\, Spain
CATEGORIES:Estudio Bíblico
ATTACH;FMTTYPE=image/jpeg:https://iebjaen.org/wp-content/uploads/2025/03/WhatsApp-Image-2025-04-07-at-11.55.46.jpeg
END:VEVENT
BEGIN:VEVENT
DTSTART;TZID=Europe/Madrid:20300120T112500
DTEND;TZID=Europe/Madrid:20300120T140000
DTSTAMP:20260424T073117
CREATED:20250325T095505Z
LAST-MODIFIED:20250407T102601Z
UID:10000575-1895138700-1895148000@iebjaen.org
SUMMARY:Culto de Adoración
DESCRIPTION:
URL:https://iebjaen.org/evento/culto-de-adoracion/2030-01-20/
LOCATION:Iglesia Evangélica Bautista de Jaén\, C/ Jesús de Nazaret\, 8\, Jaén\, 23009\, Spain
CATEGORIES:Culto de Adoración
ATTACH;FMTTYPE=image/jpeg:https://iebjaen.org/wp-content/uploads/2025/03/WhatsApp-Image-2025-04-07-at-12.24.22-1.jpeg
END:VEVENT
BEGIN:VEVENT
DTSTART;TZID=Europe/Madrid:20300124T190000
DTEND;TZID=Europe/Madrid:20300124T200000
DTSTAMP:20260424T073117
CREATED:20250407T101755Z
LAST-MODIFIED:20250407T101755Z
UID:10001264-1895511600-1895515200@iebjaen.org
SUMMARY:Estudio Bíblico
DESCRIPTION:
URL:https://iebjaen.org/evento/estudio-biblico-4/2030-01-24/
LOCATION:Iglesia Evangélica Bautista de Jaén\, C/ Jesús de Nazaret\, 8\, Jaén\, 23009\, Spain
ATTACH;FMTTYPE=image/webp:https://iebjaen.org/wp-content/uploads/2025/03/Estudio-Biblico-Jueves.webp
END:VEVENT
BEGIN:VEVENT
DTSTART;TZID=Europe/Madrid:20300127T112500
DTEND;TZID=Europe/Madrid:20300127T140000
DTSTAMP:20260424T073117
CREATED:20250325T095505Z
LAST-MODIFIED:20250407T102601Z
UID:10000576-1895743500-1895752800@iebjaen.org
SUMMARY:Culto de Adoración
DESCRIPTION:
URL:https://iebjaen.org/evento/culto-de-adoracion/2030-01-27/
LOCATION:Iglesia Evangélica Bautista de Jaén\, C/ Jesús de Nazaret\, 8\, Jaén\, 23009\, Spain
CATEGORIES:Culto de Adoración
ATTACH;FMTTYPE=image/jpeg:https://iebjaen.org/wp-content/uploads/2025/03/WhatsApp-Image-2025-04-07-at-12.24.22-1.jpeg
END:VEVENT
BEGIN:VEVENT
DTSTART;TZID=Europe/Madrid:20300131T190000
DTEND;TZID=Europe/Madrid:20300131T200000
DTSTAMP:20260424T073117
CREATED:20250331T071057Z
LAST-MODIFIED:20250407T095803Z
UID:10001116-1896116400-1896120000@iebjaen.org
SUMMARY:Culto de oración
DESCRIPTION:
URL:https://iebjaen.org/evento/estudio-biblico-2/2030-01-31/
LOCATION:Iglesia Evangélica Bautista de Jaén\, C/ Jesús de Nazaret\, 8\, Jaén\, 23009\, Spain
CATEGORIES:Estudio Bíblico
ATTACH;FMTTYPE=image/jpeg:https://iebjaen.org/wp-content/uploads/2025/03/WhatsApp-Image-2025-04-07-at-11.55.46.jpeg
END:VEVENT
BEGIN:VEVENT
DTSTART;TZID=Europe/Madrid:20300203T112500
DTEND;TZID=Europe/Madrid:20300203T140000
DTSTAMP:20260424T073117
CREATED:20250325T095505Z
LAST-MODIFIED:20250407T102601Z
UID:10000577-1896348300-1896357600@iebjaen.org
SUMMARY:Culto de Adoración
DESCRIPTION:
URL:https://iebjaen.org/evento/culto-de-adoracion/2030-02-03/
LOCATION:Iglesia Evangélica Bautista de Jaén\, C/ Jesús de Nazaret\, 8\, Jaén\, 23009\, Spain
CATEGORIES:Culto de Adoración
ATTACH;FMTTYPE=image/jpeg:https://iebjaen.org/wp-content/uploads/2025/03/WhatsApp-Image-2025-04-07-at-12.24.22-1.jpeg
END:VEVENT
BEGIN:VEVENT
DTSTART;TZID=Europe/Madrid:20300207T190000
DTEND;TZID=Europe/Madrid:20300207T200000
DTSTAMP:20260424T073117
CREATED:20250407T101755Z
LAST-MODIFIED:20250407T101755Z
UID:10001265-1896721200-1896724800@iebjaen.org
SUMMARY:Estudio Bíblico
DESCRIPTION:
URL:https://iebjaen.org/evento/estudio-biblico-4/2030-02-07/
LOCATION:Iglesia Evangélica Bautista de Jaén\, C/ Jesús de Nazaret\, 8\, Jaén\, 23009\, Spain
ATTACH;FMTTYPE=image/webp:https://iebjaen.org/wp-content/uploads/2025/03/Estudio-Biblico-Jueves.webp
END:VEVENT
BEGIN:VEVENT
DTSTART;TZID=Europe/Madrid:20300210T112500
DTEND;TZID=Europe/Madrid:20300210T140000
DTSTAMP:20260424T073117
CREATED:20250325T095505Z
LAST-MODIFIED:20250407T102601Z
UID:10000578-1896953100-1896962400@iebjaen.org
SUMMARY:Culto de Adoración
DESCRIPTION:
URL:https://iebjaen.org/evento/culto-de-adoracion/2030-02-10/
LOCATION:Iglesia Evangélica Bautista de Jaén\, C/ Jesús de Nazaret\, 8\, Jaén\, 23009\, Spain
CATEGORIES:Culto de Adoración
ATTACH;FMTTYPE=image/jpeg:https://iebjaen.org/wp-content/uploads/2025/03/WhatsApp-Image-2025-04-07-at-12.24.22-1.jpeg
END:VEVENT
BEGIN:VEVENT
DTSTART;TZID=Europe/Madrid:20300214T190000
DTEND;TZID=Europe/Madrid:20300214T200000
DTSTAMP:20260424T073117
CREATED:20250331T071057Z
LAST-MODIFIED:20250407T095803Z
UID:10001118-1897326000-1897329600@iebjaen.org
SUMMARY:Culto de oración
DESCRIPTION:
URL:https://iebjaen.org/evento/estudio-biblico-2/2030-02-14/
LOCATION:Iglesia Evangélica Bautista de Jaén\, C/ Jesús de Nazaret\, 8\, Jaén\, 23009\, Spain
CATEGORIES:Estudio Bíblico
ATTACH;FMTTYPE=image/jpeg:https://iebjaen.org/wp-content/uploads/2025/03/WhatsApp-Image-2025-04-07-at-11.55.46.jpeg
END:VEVENT
BEGIN:VEVENT
DTSTART;TZID=Europe/Madrid:20300217T112500
DTEND;TZID=Europe/Madrid:20300217T140000
DTSTAMP:20260424T073117
CREATED:20250325T095505Z
LAST-MODIFIED:20250407T102601Z
UID:10000579-1897557900-1897567200@iebjaen.org
SUMMARY:Culto de Adoración
DESCRIPTION:
URL:https://iebjaen.org/evento/culto-de-adoracion/2030-02-17/
LOCATION:Iglesia Evangélica Bautista de Jaén\, C/ Jesús de Nazaret\, 8\, Jaén\, 23009\, Spain
CATEGORIES:Culto de Adoración
ATTACH;FMTTYPE=image/jpeg:https://iebjaen.org/wp-content/uploads/2025/03/WhatsApp-Image-2025-04-07-at-12.24.22-1.jpeg
END:VEVENT
BEGIN:VEVENT
DTSTART;TZID=Europe/Madrid:20300221T190000
DTEND;TZID=Europe/Madrid:20300221T200000
DTSTAMP:20260424T073117
CREATED:20250407T101755Z
LAST-MODIFIED:20250407T101755Z
UID:10001266-1897930800-1897934400@iebjaen.org
SUMMARY:Estudio Bíblico
DESCRIPTION:
URL:https://iebjaen.org/evento/estudio-biblico-4/2030-02-21/
LOCATION:Iglesia Evangélica Bautista de Jaén\, C/ Jesús de Nazaret\, 8\, Jaén\, 23009\, Spain
ATTACH;FMTTYPE=image/webp:https://iebjaen.org/wp-content/uploads/2025/03/Estudio-Biblico-Jueves.webp
END:VEVENT
BEGIN:VEVENT
DTSTART;TZID=Europe/Madrid:20300224T112500
DTEND;TZID=Europe/Madrid:20300224T140000
DTSTAMP:20260424T073117
CREATED:20250325T095505Z
LAST-MODIFIED:20250407T102601Z
UID:10000580-1898162700-1898172000@iebjaen.org
SUMMARY:Culto de Adoración
DESCRIPTION:
URL:https://iebjaen.org/evento/culto-de-adoracion/2030-02-24/
LOCATION:Iglesia Evangélica Bautista de Jaén\, C/ Jesús de Nazaret\, 8\, Jaén\, 23009\, Spain
CATEGORIES:Culto de Adoración
ATTACH;FMTTYPE=image/jpeg:https://iebjaen.org/wp-content/uploads/2025/03/WhatsApp-Image-2025-04-07-at-12.24.22-1.jpeg
END:VEVENT
BEGIN:VEVENT
DTSTART;TZID=Europe/Madrid:20300228T190000
DTEND;TZID=Europe/Madrid:20300228T200000
DTSTAMP:20260424T073117
CREATED:20250331T071057Z
LAST-MODIFIED:20250407T095803Z
UID:10001120-1898535600-1898539200@iebjaen.org
SUMMARY:Culto de oración
DESCRIPTION:
URL:https://iebjaen.org/evento/estudio-biblico-2/2030-02-28/
LOCATION:Iglesia Evangélica Bautista de Jaén\, C/ Jesús de Nazaret\, 8\, Jaén\, 23009\, Spain
CATEGORIES:Estudio Bíblico
ATTACH;FMTTYPE=image/jpeg:https://iebjaen.org/wp-content/uploads/2025/03/WhatsApp-Image-2025-04-07-at-11.55.46.jpeg
END:VEVENT
END:VCALENDAR