BEGIN:VCALENDAR
VERSION:2.0
PRODID:-//Iglesia Evangélica Bautista de Jaén - ECPv6.15.12.2//NONSGML v1.0//EN
CALSCALE:GREGORIAN
METHOD:PUBLISH
X-WR-CALNAME:Iglesia Evangélica Bautista de Jaén
X-ORIGINAL-URL:https://iebjaen.org
X-WR-CALDESC:Eventos para Iglesia Evangélica Bautista de Jaén
REFRESH-INTERVAL;VALUE=DURATION:PT1H
X-Robots-Tag:noindex
X-PUBLISHED-TTL:PT1H
BEGIN:VTIMEZONE
TZID:Europe/Madrid
BEGIN:DAYLIGHT
TZOFFSETFROM:+0100
TZOFFSETTO:+0200
TZNAME:CEST
DTSTART:20280326T010000
END:DAYLIGHT
BEGIN:STANDARD
TZOFFSETFROM:+0200
TZOFFSETTO:+0100
TZNAME:CET
DTSTART:20281029T010000
END:STANDARD
BEGIN:DAYLIGHT
TZOFFSETFROM:+0100
TZOFFSETTO:+0200
TZNAME:CEST
DTSTART:20290325T010000
END:DAYLIGHT
BEGIN:STANDARD
TZOFFSETFROM:+0200
TZOFFSETTO:+0100
TZNAME:CET
DTSTART:20291028T010000
END:STANDARD
BEGIN:DAYLIGHT
TZOFFSETFROM:+0100
TZOFFSETTO:+0200
TZNAME:CEST
DTSTART:20300331T010000
END:DAYLIGHT
BEGIN:STANDARD
TZOFFSETFROM:+0200
TZOFFSETTO:+0100
TZNAME:CET
DTSTART:20301027T010000
END:STANDARD
END:VTIMEZONE
BEGIN:VEVENT
DTSTART;TZID=Europe/Madrid:20290311T112500
DTEND;TZID=Europe/Madrid:20290311T140000
DTSTAMP:20260423T230410
CREATED:20250325T095505Z
LAST-MODIFIED:20250407T102601Z
UID:10000530-1867922700-1867932000@iebjaen.org
SUMMARY:Culto de Adoración
DESCRIPTION:
URL:https://iebjaen.org/evento/culto-de-adoracion/2029-03-11/
LOCATION:Iglesia Evangélica Bautista de Jaén\, C/ Jesús de Nazaret\, 8\, Jaén\, 23009\, Spain
CATEGORIES:Culto de Adoración
ATTACH;FMTTYPE=image/jpeg:https://iebjaen.org/wp-content/uploads/2025/03/WhatsApp-Image-2025-04-07-at-12.24.22-1.jpeg
END:VEVENT
BEGIN:VEVENT
DTSTART;TZID=Europe/Madrid:20290315T190000
DTEND;TZID=Europe/Madrid:20290315T200000
DTSTAMP:20260423T230410
CREATED:20250331T071057Z
LAST-MODIFIED:20250407T095803Z
UID:10001070-1868295600-1868299200@iebjaen.org
SUMMARY:Culto de oración
DESCRIPTION:
URL:https://iebjaen.org/evento/estudio-biblico-2/2029-03-15/
LOCATION:Iglesia Evangélica Bautista de Jaén\, C/ Jesús de Nazaret\, 8\, Jaén\, 23009\, Spain
CATEGORIES:Estudio Bíblico
ATTACH;FMTTYPE=image/jpeg:https://iebjaen.org/wp-content/uploads/2025/03/WhatsApp-Image-2025-04-07-at-11.55.46.jpeg
END:VEVENT
BEGIN:VEVENT
DTSTART;TZID=Europe/Madrid:20290318T112500
DTEND;TZID=Europe/Madrid:20290318T140000
DTSTAMP:20260423T230410
CREATED:20250325T095505Z
LAST-MODIFIED:20250407T102601Z
UID:10000531-1868527500-1868536800@iebjaen.org
SUMMARY:Culto de Adoración
DESCRIPTION:
URL:https://iebjaen.org/evento/culto-de-adoracion/2029-03-18/
LOCATION:Iglesia Evangélica Bautista de Jaén\, C/ Jesús de Nazaret\, 8\, Jaén\, 23009\, Spain
CATEGORIES:Culto de Adoración
ATTACH;FMTTYPE=image/jpeg:https://iebjaen.org/wp-content/uploads/2025/03/WhatsApp-Image-2025-04-07-at-12.24.22-1.jpeg
END:VEVENT
BEGIN:VEVENT
DTSTART;TZID=Europe/Madrid:20290322T190000
DTEND;TZID=Europe/Madrid:20290322T200000
DTSTAMP:20260423T230410
CREATED:20250407T101755Z
LAST-MODIFIED:20250407T101755Z
UID:10001242-1868900400-1868904000@iebjaen.org
SUMMARY:Estudio Bíblico
DESCRIPTION:
URL:https://iebjaen.org/evento/estudio-biblico-4/2029-03-22/
LOCATION:Iglesia Evangélica Bautista de Jaén\, C/ Jesús de Nazaret\, 8\, Jaén\, 23009\, Spain
ATTACH;FMTTYPE=image/webp:https://iebjaen.org/wp-content/uploads/2025/03/Estudio-Biblico-Jueves.webp
END:VEVENT
BEGIN:VEVENT
DTSTART;TZID=Europe/Madrid:20290325T112500
DTEND;TZID=Europe/Madrid:20290325T140000
DTSTAMP:20260423T230410
CREATED:20250325T095505Z
LAST-MODIFIED:20250407T102601Z
UID:10000532-1869132300-1869141600@iebjaen.org
SUMMARY:Culto de Adoración
DESCRIPTION:
URL:https://iebjaen.org/evento/culto-de-adoracion/2029-03-25/
LOCATION:Iglesia Evangélica Bautista de Jaén\, C/ Jesús de Nazaret\, 8\, Jaén\, 23009\, Spain
CATEGORIES:Culto de Adoración
ATTACH;FMTTYPE=image/jpeg:https://iebjaen.org/wp-content/uploads/2025/03/WhatsApp-Image-2025-04-07-at-12.24.22-1.jpeg
END:VEVENT
BEGIN:VEVENT
DTSTART;TZID=Europe/Madrid:20290329T190000
DTEND;TZID=Europe/Madrid:20290329T200000
DTSTAMP:20260423T230410
CREATED:20250331T071057Z
LAST-MODIFIED:20250407T095803Z
UID:10001072-1869505200-1869508800@iebjaen.org
SUMMARY:Culto de oración
DESCRIPTION:
URL:https://iebjaen.org/evento/estudio-biblico-2/2029-03-29/
LOCATION:Iglesia Evangélica Bautista de Jaén\, C/ Jesús de Nazaret\, 8\, Jaén\, 23009\, Spain
CATEGORIES:Estudio Bíblico
ATTACH;FMTTYPE=image/jpeg:https://iebjaen.org/wp-content/uploads/2025/03/WhatsApp-Image-2025-04-07-at-11.55.46.jpeg
END:VEVENT
BEGIN:VEVENT
DTSTART;TZID=Europe/Madrid:20290401T112500
DTEND;TZID=Europe/Madrid:20290401T140000
DTSTAMP:20260423T230410
CREATED:20250325T095505Z
LAST-MODIFIED:20250407T102601Z
UID:10000533-1869737100-1869746400@iebjaen.org
SUMMARY:Culto de Adoración
DESCRIPTION:
URL:https://iebjaen.org/evento/culto-de-adoracion/2029-04-01/
LOCATION:Iglesia Evangélica Bautista de Jaén\, C/ Jesús de Nazaret\, 8\, Jaén\, 23009\, Spain
CATEGORIES:Culto de Adoración
ATTACH;FMTTYPE=image/jpeg:https://iebjaen.org/wp-content/uploads/2025/03/WhatsApp-Image-2025-04-07-at-12.24.22-1.jpeg
END:VEVENT
BEGIN:VEVENT
DTSTART;TZID=Europe/Madrid:20290405T190000
DTEND;TZID=Europe/Madrid:20290405T200000
DTSTAMP:20260423T230410
CREATED:20250407T101755Z
LAST-MODIFIED:20250407T101755Z
UID:10001243-1870110000-1870113600@iebjaen.org
SUMMARY:Estudio Bíblico
DESCRIPTION:
URL:https://iebjaen.org/evento/estudio-biblico-4/2029-04-05/
LOCATION:Iglesia Evangélica Bautista de Jaén\, C/ Jesús de Nazaret\, 8\, Jaén\, 23009\, Spain
ATTACH;FMTTYPE=image/webp:https://iebjaen.org/wp-content/uploads/2025/03/Estudio-Biblico-Jueves.webp
END:VEVENT
BEGIN:VEVENT
DTSTART;TZID=Europe/Madrid:20290408T112500
DTEND;TZID=Europe/Madrid:20290408T140000
DTSTAMP:20260423T230410
CREATED:20250325T095505Z
LAST-MODIFIED:20250407T102601Z
UID:10000534-1870341900-1870351200@iebjaen.org
SUMMARY:Culto de Adoración
DESCRIPTION:
URL:https://iebjaen.org/evento/culto-de-adoracion/2029-04-08/
LOCATION:Iglesia Evangélica Bautista de Jaén\, C/ Jesús de Nazaret\, 8\, Jaén\, 23009\, Spain
CATEGORIES:Culto de Adoración
ATTACH;FMTTYPE=image/jpeg:https://iebjaen.org/wp-content/uploads/2025/03/WhatsApp-Image-2025-04-07-at-12.24.22-1.jpeg
END:VEVENT
BEGIN:VEVENT
DTSTART;TZID=Europe/Madrid:20290412T190000
DTEND;TZID=Europe/Madrid:20290412T200000
DTSTAMP:20260423T230410
CREATED:20250331T071057Z
LAST-MODIFIED:20250407T095803Z
UID:10001074-1870714800-1870718400@iebjaen.org
SUMMARY:Culto de oración
DESCRIPTION:
URL:https://iebjaen.org/evento/estudio-biblico-2/2029-04-12/
LOCATION:Iglesia Evangélica Bautista de Jaén\, C/ Jesús de Nazaret\, 8\, Jaén\, 23009\, Spain
CATEGORIES:Estudio Bíblico
ATTACH;FMTTYPE=image/jpeg:https://iebjaen.org/wp-content/uploads/2025/03/WhatsApp-Image-2025-04-07-at-11.55.46.jpeg
END:VEVENT
BEGIN:VEVENT
DTSTART;TZID=Europe/Madrid:20290415T112500
DTEND;TZID=Europe/Madrid:20290415T140000
DTSTAMP:20260423T230410
CREATED:20250325T095505Z
LAST-MODIFIED:20250407T102601Z
UID:10000535-1870946700-1870956000@iebjaen.org
SUMMARY:Culto de Adoración
DESCRIPTION:
URL:https://iebjaen.org/evento/culto-de-adoracion/2029-04-15/
LOCATION:Iglesia Evangélica Bautista de Jaén\, C/ Jesús de Nazaret\, 8\, Jaén\, 23009\, Spain
CATEGORIES:Culto de Adoración
ATTACH;FMTTYPE=image/jpeg:https://iebjaen.org/wp-content/uploads/2025/03/WhatsApp-Image-2025-04-07-at-12.24.22-1.jpeg
END:VEVENT
BEGIN:VEVENT
DTSTART;TZID=Europe/Madrid:20290419T190000
DTEND;TZID=Europe/Madrid:20290419T200000
DTSTAMP:20260423T230410
CREATED:20250407T101755Z
LAST-MODIFIED:20250407T101755Z
UID:10001244-1871319600-1871323200@iebjaen.org
SUMMARY:Estudio Bíblico
DESCRIPTION:
URL:https://iebjaen.org/evento/estudio-biblico-4/2029-04-19/
LOCATION:Iglesia Evangélica Bautista de Jaén\, C/ Jesús de Nazaret\, 8\, Jaén\, 23009\, Spain
ATTACH;FMTTYPE=image/webp:https://iebjaen.org/wp-content/uploads/2025/03/Estudio-Biblico-Jueves.webp
END:VEVENT
BEGIN:VEVENT
DTSTART;TZID=Europe/Madrid:20290422T112500
DTEND;TZID=Europe/Madrid:20290422T140000
DTSTAMP:20260423T230410
CREATED:20250325T095505Z
LAST-MODIFIED:20250407T102601Z
UID:10000536-1871551500-1871560800@iebjaen.org
SUMMARY:Culto de Adoración
DESCRIPTION:
URL:https://iebjaen.org/evento/culto-de-adoracion/2029-04-22/
LOCATION:Iglesia Evangélica Bautista de Jaén\, C/ Jesús de Nazaret\, 8\, Jaén\, 23009\, Spain
CATEGORIES:Culto de Adoración
ATTACH;FMTTYPE=image/jpeg:https://iebjaen.org/wp-content/uploads/2025/03/WhatsApp-Image-2025-04-07-at-12.24.22-1.jpeg
END:VEVENT
BEGIN:VEVENT
DTSTART;TZID=Europe/Madrid:20290426T190000
DTEND;TZID=Europe/Madrid:20290426T200000
DTSTAMP:20260423T230410
CREATED:20250331T071057Z
LAST-MODIFIED:20250407T095803Z
UID:10001076-1871924400-1871928000@iebjaen.org
SUMMARY:Culto de oración
DESCRIPTION:
URL:https://iebjaen.org/evento/estudio-biblico-2/2029-04-26/
LOCATION:Iglesia Evangélica Bautista de Jaén\, C/ Jesús de Nazaret\, 8\, Jaén\, 23009\, Spain
CATEGORIES:Estudio Bíblico
ATTACH;FMTTYPE=image/jpeg:https://iebjaen.org/wp-content/uploads/2025/03/WhatsApp-Image-2025-04-07-at-11.55.46.jpeg
END:VEVENT
BEGIN:VEVENT
DTSTART;TZID=Europe/Madrid:20290429T112500
DTEND;TZID=Europe/Madrid:20290429T140000
DTSTAMP:20260423T230410
CREATED:20250325T095505Z
LAST-MODIFIED:20250407T102601Z
UID:10000537-1872156300-1872165600@iebjaen.org
SUMMARY:Culto de Adoración
DESCRIPTION:
URL:https://iebjaen.org/evento/culto-de-adoracion/2029-04-29/
LOCATION:Iglesia Evangélica Bautista de Jaén\, C/ Jesús de Nazaret\, 8\, Jaén\, 23009\, Spain
CATEGORIES:Culto de Adoración
ATTACH;FMTTYPE=image/jpeg:https://iebjaen.org/wp-content/uploads/2025/03/WhatsApp-Image-2025-04-07-at-12.24.22-1.jpeg
END:VEVENT
BEGIN:VEVENT
DTSTART;TZID=Europe/Madrid:20290503T190000
DTEND;TZID=Europe/Madrid:20290503T200000
DTSTAMP:20260423T230410
CREATED:20250407T101755Z
LAST-MODIFIED:20250407T101755Z
UID:10001245-1872529200-1872532800@iebjaen.org
SUMMARY:Estudio Bíblico
DESCRIPTION:
URL:https://iebjaen.org/evento/estudio-biblico-4/2029-05-03/
LOCATION:Iglesia Evangélica Bautista de Jaén\, C/ Jesús de Nazaret\, 8\, Jaén\, 23009\, Spain
ATTACH;FMTTYPE=image/webp:https://iebjaen.org/wp-content/uploads/2025/03/Estudio-Biblico-Jueves.webp
END:VEVENT
BEGIN:VEVENT
DTSTART;TZID=Europe/Madrid:20290506T112500
DTEND;TZID=Europe/Madrid:20290506T140000
DTSTAMP:20260423T230410
CREATED:20250325T095505Z
LAST-MODIFIED:20250407T102601Z
UID:10000538-1872761100-1872770400@iebjaen.org
SUMMARY:Culto de Adoración
DESCRIPTION:
URL:https://iebjaen.org/evento/culto-de-adoracion/2029-05-06/
LOCATION:Iglesia Evangélica Bautista de Jaén\, C/ Jesús de Nazaret\, 8\, Jaén\, 23009\, Spain
CATEGORIES:Culto de Adoración
ATTACH;FMTTYPE=image/jpeg:https://iebjaen.org/wp-content/uploads/2025/03/WhatsApp-Image-2025-04-07-at-12.24.22-1.jpeg
END:VEVENT
BEGIN:VEVENT
DTSTART;TZID=Europe/Madrid:20290510T190000
DTEND;TZID=Europe/Madrid:20290510T200000
DTSTAMP:20260423T230410
CREATED:20250331T071057Z
LAST-MODIFIED:20250407T095803Z
UID:10001078-1873134000-1873137600@iebjaen.org
SUMMARY:Culto de oración
DESCRIPTION:
URL:https://iebjaen.org/evento/estudio-biblico-2/2029-05-10/
LOCATION:Iglesia Evangélica Bautista de Jaén\, C/ Jesús de Nazaret\, 8\, Jaén\, 23009\, Spain
CATEGORIES:Estudio Bíblico
ATTACH;FMTTYPE=image/jpeg:https://iebjaen.org/wp-content/uploads/2025/03/WhatsApp-Image-2025-04-07-at-11.55.46.jpeg
END:VEVENT
BEGIN:VEVENT
DTSTART;TZID=Europe/Madrid:20290513T112500
DTEND;TZID=Europe/Madrid:20290513T140000
DTSTAMP:20260423T230410
CREATED:20250325T095505Z
LAST-MODIFIED:20250407T102601Z
UID:10000539-1873365900-1873375200@iebjaen.org
SUMMARY:Culto de Adoración
DESCRIPTION:
URL:https://iebjaen.org/evento/culto-de-adoracion/2029-05-13/
LOCATION:Iglesia Evangélica Bautista de Jaén\, C/ Jesús de Nazaret\, 8\, Jaén\, 23009\, Spain
CATEGORIES:Culto de Adoración
ATTACH;FMTTYPE=image/jpeg:https://iebjaen.org/wp-content/uploads/2025/03/WhatsApp-Image-2025-04-07-at-12.24.22-1.jpeg
END:VEVENT
BEGIN:VEVENT
DTSTART;TZID=Europe/Madrid:20290517T190000
DTEND;TZID=Europe/Madrid:20290517T200000
DTSTAMP:20260423T230410
CREATED:20250407T101755Z
LAST-MODIFIED:20250407T101755Z
UID:10001246-1873738800-1873742400@iebjaen.org
SUMMARY:Estudio Bíblico
DESCRIPTION:
URL:https://iebjaen.org/evento/estudio-biblico-4/2029-05-17/
LOCATION:Iglesia Evangélica Bautista de Jaén\, C/ Jesús de Nazaret\, 8\, Jaén\, 23009\, Spain
ATTACH;FMTTYPE=image/webp:https://iebjaen.org/wp-content/uploads/2025/03/Estudio-Biblico-Jueves.webp
END:VEVENT
BEGIN:VEVENT
DTSTART;TZID=Europe/Madrid:20290520T112500
DTEND;TZID=Europe/Madrid:20290520T140000
DTSTAMP:20260423T230410
CREATED:20250325T095505Z
LAST-MODIFIED:20250407T102601Z
UID:10000540-1873970700-1873980000@iebjaen.org
SUMMARY:Culto de Adoración
DESCRIPTION:
URL:https://iebjaen.org/evento/culto-de-adoracion/2029-05-20/
LOCATION:Iglesia Evangélica Bautista de Jaén\, C/ Jesús de Nazaret\, 8\, Jaén\, 23009\, Spain
CATEGORIES:Culto de Adoración
ATTACH;FMTTYPE=image/jpeg:https://iebjaen.org/wp-content/uploads/2025/03/WhatsApp-Image-2025-04-07-at-12.24.22-1.jpeg
END:VEVENT
BEGIN:VEVENT
DTSTART;TZID=Europe/Madrid:20290524T190000
DTEND;TZID=Europe/Madrid:20290524T200000
DTSTAMP:20260423T230410
CREATED:20250331T071057Z
LAST-MODIFIED:20250407T095803Z
UID:10001080-1874343600-1874347200@iebjaen.org
SUMMARY:Culto de oración
DESCRIPTION:
URL:https://iebjaen.org/evento/estudio-biblico-2/2029-05-24/
LOCATION:Iglesia Evangélica Bautista de Jaén\, C/ Jesús de Nazaret\, 8\, Jaén\, 23009\, Spain
CATEGORIES:Estudio Bíblico
ATTACH;FMTTYPE=image/jpeg:https://iebjaen.org/wp-content/uploads/2025/03/WhatsApp-Image-2025-04-07-at-11.55.46.jpeg
END:VEVENT
BEGIN:VEVENT
DTSTART;TZID=Europe/Madrid:20290527T112500
DTEND;TZID=Europe/Madrid:20290527T140000
DTSTAMP:20260423T230410
CREATED:20250325T095505Z
LAST-MODIFIED:20250407T102601Z
UID:10000541-1874575500-1874584800@iebjaen.org
SUMMARY:Culto de Adoración
DESCRIPTION:
URL:https://iebjaen.org/evento/culto-de-adoracion/2029-05-27/
LOCATION:Iglesia Evangélica Bautista de Jaén\, C/ Jesús de Nazaret\, 8\, Jaén\, 23009\, Spain
CATEGORIES:Culto de Adoración
ATTACH;FMTTYPE=image/jpeg:https://iebjaen.org/wp-content/uploads/2025/03/WhatsApp-Image-2025-04-07-at-12.24.22-1.jpeg
END:VEVENT
BEGIN:VEVENT
DTSTART;TZID=Europe/Madrid:20290531T190000
DTEND;TZID=Europe/Madrid:20290531T200000
DTSTAMP:20260423T230410
CREATED:20250407T101755Z
LAST-MODIFIED:20250407T101755Z
UID:10001247-1874948400-1874952000@iebjaen.org
SUMMARY:Estudio Bíblico
DESCRIPTION:
URL:https://iebjaen.org/evento/estudio-biblico-4/2029-05-31/
LOCATION:Iglesia Evangélica Bautista de Jaén\, C/ Jesús de Nazaret\, 8\, Jaén\, 23009\, Spain
ATTACH;FMTTYPE=image/webp:https://iebjaen.org/wp-content/uploads/2025/03/Estudio-Biblico-Jueves.webp
END:VEVENT
BEGIN:VEVENT
DTSTART;TZID=Europe/Madrid:20290603T112500
DTEND;TZID=Europe/Madrid:20290603T140000
DTSTAMP:20260423T230410
CREATED:20250325T095505Z
LAST-MODIFIED:20250407T102601Z
UID:10000542-1875180300-1875189600@iebjaen.org
SUMMARY:Culto de Adoración
DESCRIPTION:
URL:https://iebjaen.org/evento/culto-de-adoracion/2029-06-03/
LOCATION:Iglesia Evangélica Bautista de Jaén\, C/ Jesús de Nazaret\, 8\, Jaén\, 23009\, Spain
CATEGORIES:Culto de Adoración
ATTACH;FMTTYPE=image/jpeg:https://iebjaen.org/wp-content/uploads/2025/03/WhatsApp-Image-2025-04-07-at-12.24.22-1.jpeg
END:VEVENT
BEGIN:VEVENT
DTSTART;TZID=Europe/Madrid:20290607T190000
DTEND;TZID=Europe/Madrid:20290607T200000
DTSTAMP:20260423T230410
CREATED:20250331T071057Z
LAST-MODIFIED:20250407T095803Z
UID:10001082-1875553200-1875556800@iebjaen.org
SUMMARY:Culto de oración
DESCRIPTION:
URL:https://iebjaen.org/evento/estudio-biblico-2/2029-06-07/
LOCATION:Iglesia Evangélica Bautista de Jaén\, C/ Jesús de Nazaret\, 8\, Jaén\, 23009\, Spain
CATEGORIES:Estudio Bíblico
ATTACH;FMTTYPE=image/jpeg:https://iebjaen.org/wp-content/uploads/2025/03/WhatsApp-Image-2025-04-07-at-11.55.46.jpeg
END:VEVENT
BEGIN:VEVENT
DTSTART;TZID=Europe/Madrid:20290610T112500
DTEND;TZID=Europe/Madrid:20290610T140000
DTSTAMP:20260423T230410
CREATED:20250325T095505Z
LAST-MODIFIED:20250407T102601Z
UID:10000543-1875785100-1875794400@iebjaen.org
SUMMARY:Culto de Adoración
DESCRIPTION:
URL:https://iebjaen.org/evento/culto-de-adoracion/2029-06-10/
LOCATION:Iglesia Evangélica Bautista de Jaén\, C/ Jesús de Nazaret\, 8\, Jaén\, 23009\, Spain
CATEGORIES:Culto de Adoración
ATTACH;FMTTYPE=image/jpeg:https://iebjaen.org/wp-content/uploads/2025/03/WhatsApp-Image-2025-04-07-at-12.24.22-1.jpeg
END:VEVENT
BEGIN:VEVENT
DTSTART;TZID=Europe/Madrid:20290614T190000
DTEND;TZID=Europe/Madrid:20290614T200000
DTSTAMP:20260423T230410
CREATED:20250407T101755Z
LAST-MODIFIED:20250407T101755Z
UID:10001248-1876158000-1876161600@iebjaen.org
SUMMARY:Estudio Bíblico
DESCRIPTION:
URL:https://iebjaen.org/evento/estudio-biblico-4/2029-06-14/
LOCATION:Iglesia Evangélica Bautista de Jaén\, C/ Jesús de Nazaret\, 8\, Jaén\, 23009\, Spain
ATTACH;FMTTYPE=image/webp:https://iebjaen.org/wp-content/uploads/2025/03/Estudio-Biblico-Jueves.webp
END:VEVENT
BEGIN:VEVENT
DTSTART;TZID=Europe/Madrid:20290617T112500
DTEND;TZID=Europe/Madrid:20290617T140000
DTSTAMP:20260423T230410
CREATED:20250325T095505Z
LAST-MODIFIED:20250407T102601Z
UID:10000544-1876389900-1876399200@iebjaen.org
SUMMARY:Culto de Adoración
DESCRIPTION:
URL:https://iebjaen.org/evento/culto-de-adoracion/2029-06-17/
LOCATION:Iglesia Evangélica Bautista de Jaén\, C/ Jesús de Nazaret\, 8\, Jaén\, 23009\, Spain
CATEGORIES:Culto de Adoración
ATTACH;FMTTYPE=image/jpeg:https://iebjaen.org/wp-content/uploads/2025/03/WhatsApp-Image-2025-04-07-at-12.24.22-1.jpeg
END:VEVENT
BEGIN:VEVENT
DTSTART;TZID=Europe/Madrid:20290621T190000
DTEND;TZID=Europe/Madrid:20290621T200000
DTSTAMP:20260423T230410
CREATED:20250331T071057Z
LAST-MODIFIED:20250407T095803Z
UID:10001084-1876762800-1876766400@iebjaen.org
SUMMARY:Culto de oración
DESCRIPTION:
URL:https://iebjaen.org/evento/estudio-biblico-2/2029-06-21/
LOCATION:Iglesia Evangélica Bautista de Jaén\, C/ Jesús de Nazaret\, 8\, Jaén\, 23009\, Spain
CATEGORIES:Estudio Bíblico
ATTACH;FMTTYPE=image/jpeg:https://iebjaen.org/wp-content/uploads/2025/03/WhatsApp-Image-2025-04-07-at-11.55.46.jpeg
END:VEVENT
END:VCALENDAR