BEGIN:VCALENDAR
VERSION:2.0
PRODID:-//Iglesia Evangélica Bautista de Jaén - ECPv6.15.12.2//NONSGML v1.0//EN
CALSCALE:GREGORIAN
METHOD:PUBLISH
X-WR-CALNAME:Iglesia Evangélica Bautista de Jaén
X-ORIGINAL-URL:https://iebjaen.org
X-WR-CALDESC:Eventos para Iglesia Evangélica Bautista de Jaén
REFRESH-INTERVAL;VALUE=DURATION:PT1H
X-Robots-Tag:noindex
X-PUBLISHED-TTL:PT1H
BEGIN:VTIMEZONE
TZID:Europe/Madrid
BEGIN:DAYLIGHT
TZOFFSETFROM:+0100
TZOFFSETTO:+0200
TZNAME:CEST
DTSTART:20270328T010000
END:DAYLIGHT
BEGIN:STANDARD
TZOFFSETFROM:+0200
TZOFFSETTO:+0100
TZNAME:CET
DTSTART:20271031T010000
END:STANDARD
BEGIN:DAYLIGHT
TZOFFSETFROM:+0100
TZOFFSETTO:+0200
TZNAME:CEST
DTSTART:20280326T010000
END:DAYLIGHT
BEGIN:STANDARD
TZOFFSETFROM:+0200
TZOFFSETTO:+0100
TZNAME:CET
DTSTART:20281029T010000
END:STANDARD
BEGIN:DAYLIGHT
TZOFFSETFROM:+0100
TZOFFSETTO:+0200
TZNAME:CEST
DTSTART:20290325T010000
END:DAYLIGHT
BEGIN:STANDARD
TZOFFSETFROM:+0200
TZOFFSETTO:+0100
TZNAME:CET
DTSTART:20291028T010000
END:STANDARD
END:VTIMEZONE
BEGIN:VEVENT
DTSTART;TZID=Europe/Madrid:20280106T190000
DTEND;TZID=Europe/Madrid:20280106T200000
DTSTAMP:20260415T200616
CREATED:20250331T071057Z
LAST-MODIFIED:20250407T095803Z
UID:10001008-1830798000-1830801600@iebjaen.org
SUMMARY:Culto de oración
DESCRIPTION:
URL:https://iebjaen.org/evento/estudio-biblico-2/2028-01-06/
LOCATION:Iglesia Evangélica Bautista de Jaén\, C/ Jesús de Nazaret\, 8\, Jaén\, 23009\, Spain
CATEGORIES:Estudio Bíblico
ATTACH;FMTTYPE=image/jpeg:https://iebjaen.org/wp-content/uploads/2025/03/WhatsApp-Image-2025-04-07-at-11.55.46.jpeg
END:VEVENT
BEGIN:VEVENT
DTSTART;TZID=Europe/Madrid:20280109T112500
DTEND;TZID=Europe/Madrid:20280109T140000
DTSTAMP:20260415T200616
CREATED:20250325T095505Z
LAST-MODIFIED:20250407T102601Z
UID:10000469-1831029900-1831039200@iebjaen.org
SUMMARY:Culto de Adoración
DESCRIPTION:
URL:https://iebjaen.org/evento/culto-de-adoracion/2028-01-09/
LOCATION:Iglesia Evangélica Bautista de Jaén\, C/ Jesús de Nazaret\, 8\, Jaén\, 23009\, Spain
CATEGORIES:Culto de Adoración
ATTACH;FMTTYPE=image/jpeg:https://iebjaen.org/wp-content/uploads/2025/03/WhatsApp-Image-2025-04-07-at-12.24.22-1.jpeg
END:VEVENT
BEGIN:VEVENT
DTSTART;TZID=Europe/Madrid:20280113T190000
DTEND;TZID=Europe/Madrid:20280113T200000
DTSTAMP:20260415T200616
CREATED:20250407T101755Z
LAST-MODIFIED:20250407T101755Z
UID:10001211-1831402800-1831406400@iebjaen.org
SUMMARY:Estudio Bíblico
DESCRIPTION:
URL:https://iebjaen.org/evento/estudio-biblico-4/2028-01-13/
LOCATION:Iglesia Evangélica Bautista de Jaén\, C/ Jesús de Nazaret\, 8\, Jaén\, 23009\, Spain
ATTACH;FMTTYPE=image/webp:https://iebjaen.org/wp-content/uploads/2025/03/Estudio-Biblico-Jueves.webp
END:VEVENT
BEGIN:VEVENT
DTSTART;TZID=Europe/Madrid:20280116T112500
DTEND;TZID=Europe/Madrid:20280116T140000
DTSTAMP:20260415T200616
CREATED:20250325T095505Z
LAST-MODIFIED:20250407T102601Z
UID:10000470-1831634700-1831644000@iebjaen.org
SUMMARY:Culto de Adoración
DESCRIPTION:
URL:https://iebjaen.org/evento/culto-de-adoracion/2028-01-16/
LOCATION:Iglesia Evangélica Bautista de Jaén\, C/ Jesús de Nazaret\, 8\, Jaén\, 23009\, Spain
CATEGORIES:Culto de Adoración
ATTACH;FMTTYPE=image/jpeg:https://iebjaen.org/wp-content/uploads/2025/03/WhatsApp-Image-2025-04-07-at-12.24.22-1.jpeg
END:VEVENT
BEGIN:VEVENT
DTSTART;TZID=Europe/Madrid:20280120T190000
DTEND;TZID=Europe/Madrid:20280120T200000
DTSTAMP:20260415T200616
CREATED:20250331T071057Z
LAST-MODIFIED:20250407T095803Z
UID:10001010-1832007600-1832011200@iebjaen.org
SUMMARY:Culto de oración
DESCRIPTION:
URL:https://iebjaen.org/evento/estudio-biblico-2/2028-01-20/
LOCATION:Iglesia Evangélica Bautista de Jaén\, C/ Jesús de Nazaret\, 8\, Jaén\, 23009\, Spain
CATEGORIES:Estudio Bíblico
ATTACH;FMTTYPE=image/jpeg:https://iebjaen.org/wp-content/uploads/2025/03/WhatsApp-Image-2025-04-07-at-11.55.46.jpeg
END:VEVENT
BEGIN:VEVENT
DTSTART;TZID=Europe/Madrid:20280123T112500
DTEND;TZID=Europe/Madrid:20280123T140000
DTSTAMP:20260415T200616
CREATED:20250325T095505Z
LAST-MODIFIED:20250407T102601Z
UID:10000471-1832239500-1832248800@iebjaen.org
SUMMARY:Culto de Adoración
DESCRIPTION:
URL:https://iebjaen.org/evento/culto-de-adoracion/2028-01-23/
LOCATION:Iglesia Evangélica Bautista de Jaén\, C/ Jesús de Nazaret\, 8\, Jaén\, 23009\, Spain
CATEGORIES:Culto de Adoración
ATTACH;FMTTYPE=image/jpeg:https://iebjaen.org/wp-content/uploads/2025/03/WhatsApp-Image-2025-04-07-at-12.24.22-1.jpeg
END:VEVENT
BEGIN:VEVENT
DTSTART;TZID=Europe/Madrid:20280127T190000
DTEND;TZID=Europe/Madrid:20280127T200000
DTSTAMP:20260415T200616
CREATED:20250407T101755Z
LAST-MODIFIED:20250407T101755Z
UID:10001212-1832612400-1832616000@iebjaen.org
SUMMARY:Estudio Bíblico
DESCRIPTION:
URL:https://iebjaen.org/evento/estudio-biblico-4/2028-01-27/
LOCATION:Iglesia Evangélica Bautista de Jaén\, C/ Jesús de Nazaret\, 8\, Jaén\, 23009\, Spain
ATTACH;FMTTYPE=image/webp:https://iebjaen.org/wp-content/uploads/2025/03/Estudio-Biblico-Jueves.webp
END:VEVENT
BEGIN:VEVENT
DTSTART;TZID=Europe/Madrid:20280130T112500
DTEND;TZID=Europe/Madrid:20280130T140000
DTSTAMP:20260415T200616
CREATED:20250325T095505Z
LAST-MODIFIED:20250407T102601Z
UID:10000472-1832844300-1832853600@iebjaen.org
SUMMARY:Culto de Adoración
DESCRIPTION:
URL:https://iebjaen.org/evento/culto-de-adoracion/2028-01-30/
LOCATION:Iglesia Evangélica Bautista de Jaén\, C/ Jesús de Nazaret\, 8\, Jaén\, 23009\, Spain
CATEGORIES:Culto de Adoración
ATTACH;FMTTYPE=image/jpeg:https://iebjaen.org/wp-content/uploads/2025/03/WhatsApp-Image-2025-04-07-at-12.24.22-1.jpeg
END:VEVENT
BEGIN:VEVENT
DTSTART;TZID=Europe/Madrid:20280203T190000
DTEND;TZID=Europe/Madrid:20280203T200000
DTSTAMP:20260415T200616
CREATED:20250331T071057Z
LAST-MODIFIED:20250407T095803Z
UID:10001012-1833217200-1833220800@iebjaen.org
SUMMARY:Culto de oración
DESCRIPTION:
URL:https://iebjaen.org/evento/estudio-biblico-2/2028-02-03/
LOCATION:Iglesia Evangélica Bautista de Jaén\, C/ Jesús de Nazaret\, 8\, Jaén\, 23009\, Spain
CATEGORIES:Estudio Bíblico
ATTACH;FMTTYPE=image/jpeg:https://iebjaen.org/wp-content/uploads/2025/03/WhatsApp-Image-2025-04-07-at-11.55.46.jpeg
END:VEVENT
BEGIN:VEVENT
DTSTART;TZID=Europe/Madrid:20280206T112500
DTEND;TZID=Europe/Madrid:20280206T140000
DTSTAMP:20260415T200616
CREATED:20250325T095505Z
LAST-MODIFIED:20250407T102601Z
UID:10000473-1833449100-1833458400@iebjaen.org
SUMMARY:Culto de Adoración
DESCRIPTION:
URL:https://iebjaen.org/evento/culto-de-adoracion/2028-02-06/
LOCATION:Iglesia Evangélica Bautista de Jaén\, C/ Jesús de Nazaret\, 8\, Jaén\, 23009\, Spain
CATEGORIES:Culto de Adoración
ATTACH;FMTTYPE=image/jpeg:https://iebjaen.org/wp-content/uploads/2025/03/WhatsApp-Image-2025-04-07-at-12.24.22-1.jpeg
END:VEVENT
BEGIN:VEVENT
DTSTART;TZID=Europe/Madrid:20280210T190000
DTEND;TZID=Europe/Madrid:20280210T200000
DTSTAMP:20260415T200616
CREATED:20250407T101755Z
LAST-MODIFIED:20250407T101755Z
UID:10001213-1833822000-1833825600@iebjaen.org
SUMMARY:Estudio Bíblico
DESCRIPTION:
URL:https://iebjaen.org/evento/estudio-biblico-4/2028-02-10/
LOCATION:Iglesia Evangélica Bautista de Jaén\, C/ Jesús de Nazaret\, 8\, Jaén\, 23009\, Spain
ATTACH;FMTTYPE=image/webp:https://iebjaen.org/wp-content/uploads/2025/03/Estudio-Biblico-Jueves.webp
END:VEVENT
BEGIN:VEVENT
DTSTART;TZID=Europe/Madrid:20280213T112500
DTEND;TZID=Europe/Madrid:20280213T140000
DTSTAMP:20260415T200616
CREATED:20250325T095505Z
LAST-MODIFIED:20250407T102601Z
UID:10000474-1834053900-1834063200@iebjaen.org
SUMMARY:Culto de Adoración
DESCRIPTION:
URL:https://iebjaen.org/evento/culto-de-adoracion/2028-02-13/
LOCATION:Iglesia Evangélica Bautista de Jaén\, C/ Jesús de Nazaret\, 8\, Jaén\, 23009\, Spain
CATEGORIES:Culto de Adoración
ATTACH;FMTTYPE=image/jpeg:https://iebjaen.org/wp-content/uploads/2025/03/WhatsApp-Image-2025-04-07-at-12.24.22-1.jpeg
END:VEVENT
BEGIN:VEVENT
DTSTART;TZID=Europe/Madrid:20280217T190000
DTEND;TZID=Europe/Madrid:20280217T200000
DTSTAMP:20260415T200616
CREATED:20250331T071057Z
LAST-MODIFIED:20250407T095803Z
UID:10001014-1834426800-1834430400@iebjaen.org
SUMMARY:Culto de oración
DESCRIPTION:
URL:https://iebjaen.org/evento/estudio-biblico-2/2028-02-17/
LOCATION:Iglesia Evangélica Bautista de Jaén\, C/ Jesús de Nazaret\, 8\, Jaén\, 23009\, Spain
CATEGORIES:Estudio Bíblico
ATTACH;FMTTYPE=image/jpeg:https://iebjaen.org/wp-content/uploads/2025/03/WhatsApp-Image-2025-04-07-at-11.55.46.jpeg
END:VEVENT
BEGIN:VEVENT
DTSTART;TZID=Europe/Madrid:20280220T112500
DTEND;TZID=Europe/Madrid:20280220T140000
DTSTAMP:20260415T200616
CREATED:20250325T095505Z
LAST-MODIFIED:20250407T102601Z
UID:10000475-1834658700-1834668000@iebjaen.org
SUMMARY:Culto de Adoración
DESCRIPTION:
URL:https://iebjaen.org/evento/culto-de-adoracion/2028-02-20/
LOCATION:Iglesia Evangélica Bautista de Jaén\, C/ Jesús de Nazaret\, 8\, Jaén\, 23009\, Spain
CATEGORIES:Culto de Adoración
ATTACH;FMTTYPE=image/jpeg:https://iebjaen.org/wp-content/uploads/2025/03/WhatsApp-Image-2025-04-07-at-12.24.22-1.jpeg
END:VEVENT
BEGIN:VEVENT
DTSTART;TZID=Europe/Madrid:20280224T190000
DTEND;TZID=Europe/Madrid:20280224T200000
DTSTAMP:20260415T200616
CREATED:20250407T101755Z
LAST-MODIFIED:20250407T101755Z
UID:10001214-1835031600-1835035200@iebjaen.org
SUMMARY:Estudio Bíblico
DESCRIPTION:
URL:https://iebjaen.org/evento/estudio-biblico-4/2028-02-24/
LOCATION:Iglesia Evangélica Bautista de Jaén\, C/ Jesús de Nazaret\, 8\, Jaén\, 23009\, Spain
ATTACH;FMTTYPE=image/webp:https://iebjaen.org/wp-content/uploads/2025/03/Estudio-Biblico-Jueves.webp
END:VEVENT
BEGIN:VEVENT
DTSTART;TZID=Europe/Madrid:20280227T112500
DTEND;TZID=Europe/Madrid:20280227T140000
DTSTAMP:20260415T200616
CREATED:20250325T095505Z
LAST-MODIFIED:20250407T102601Z
UID:10000476-1835263500-1835272800@iebjaen.org
SUMMARY:Culto de Adoración
DESCRIPTION:
URL:https://iebjaen.org/evento/culto-de-adoracion/2028-02-27/
LOCATION:Iglesia Evangélica Bautista de Jaén\, C/ Jesús de Nazaret\, 8\, Jaén\, 23009\, Spain
CATEGORIES:Culto de Adoración
ATTACH;FMTTYPE=image/jpeg:https://iebjaen.org/wp-content/uploads/2025/03/WhatsApp-Image-2025-04-07-at-12.24.22-1.jpeg
END:VEVENT
BEGIN:VEVENT
DTSTART;TZID=Europe/Madrid:20280302T190000
DTEND;TZID=Europe/Madrid:20280302T200000
DTSTAMP:20260415T200616
CREATED:20250331T071057Z
LAST-MODIFIED:20250407T095803Z
UID:10001016-1835636400-1835640000@iebjaen.org
SUMMARY:Culto de oración
DESCRIPTION:
URL:https://iebjaen.org/evento/estudio-biblico-2/2028-03-02/
LOCATION:Iglesia Evangélica Bautista de Jaén\, C/ Jesús de Nazaret\, 8\, Jaén\, 23009\, Spain
CATEGORIES:Estudio Bíblico
ATTACH;FMTTYPE=image/jpeg:https://iebjaen.org/wp-content/uploads/2025/03/WhatsApp-Image-2025-04-07-at-11.55.46.jpeg
END:VEVENT
BEGIN:VEVENT
DTSTART;TZID=Europe/Madrid:20280305T112500
DTEND;TZID=Europe/Madrid:20280305T140000
DTSTAMP:20260415T200616
CREATED:20250325T095505Z
LAST-MODIFIED:20250407T102601Z
UID:10000477-1835868300-1835877600@iebjaen.org
SUMMARY:Culto de Adoración
DESCRIPTION:
URL:https://iebjaen.org/evento/culto-de-adoracion/2028-03-05/
LOCATION:Iglesia Evangélica Bautista de Jaén\, C/ Jesús de Nazaret\, 8\, Jaén\, 23009\, Spain
CATEGORIES:Culto de Adoración
ATTACH;FMTTYPE=image/jpeg:https://iebjaen.org/wp-content/uploads/2025/03/WhatsApp-Image-2025-04-07-at-12.24.22-1.jpeg
END:VEVENT
BEGIN:VEVENT
DTSTART;TZID=Europe/Madrid:20280309T190000
DTEND;TZID=Europe/Madrid:20280309T200000
DTSTAMP:20260415T200616
CREATED:20250407T101755Z
LAST-MODIFIED:20250407T101755Z
UID:10001215-1836241200-1836244800@iebjaen.org
SUMMARY:Estudio Bíblico
DESCRIPTION:
URL:https://iebjaen.org/evento/estudio-biblico-4/2028-03-09/
LOCATION:Iglesia Evangélica Bautista de Jaén\, C/ Jesús de Nazaret\, 8\, Jaén\, 23009\, Spain
ATTACH;FMTTYPE=image/webp:https://iebjaen.org/wp-content/uploads/2025/03/Estudio-Biblico-Jueves.webp
END:VEVENT
BEGIN:VEVENT
DTSTART;TZID=Europe/Madrid:20280312T112500
DTEND;TZID=Europe/Madrid:20280312T140000
DTSTAMP:20260415T200616
CREATED:20250325T095505Z
LAST-MODIFIED:20250407T102601Z
UID:10000478-1836473100-1836482400@iebjaen.org
SUMMARY:Culto de Adoración
DESCRIPTION:
URL:https://iebjaen.org/evento/culto-de-adoracion/2028-03-12/
LOCATION:Iglesia Evangélica Bautista de Jaén\, C/ Jesús de Nazaret\, 8\, Jaén\, 23009\, Spain
CATEGORIES:Culto de Adoración
ATTACH;FMTTYPE=image/jpeg:https://iebjaen.org/wp-content/uploads/2025/03/WhatsApp-Image-2025-04-07-at-12.24.22-1.jpeg
END:VEVENT
BEGIN:VEVENT
DTSTART;TZID=Europe/Madrid:20280316T190000
DTEND;TZID=Europe/Madrid:20280316T200000
DTSTAMP:20260415T200616
CREATED:20250331T071057Z
LAST-MODIFIED:20250407T095803Z
UID:10001018-1836846000-1836849600@iebjaen.org
SUMMARY:Culto de oración
DESCRIPTION:
URL:https://iebjaen.org/evento/estudio-biblico-2/2028-03-16/
LOCATION:Iglesia Evangélica Bautista de Jaén\, C/ Jesús de Nazaret\, 8\, Jaén\, 23009\, Spain
CATEGORIES:Estudio Bíblico
ATTACH;FMTTYPE=image/jpeg:https://iebjaen.org/wp-content/uploads/2025/03/WhatsApp-Image-2025-04-07-at-11.55.46.jpeg
END:VEVENT
BEGIN:VEVENT
DTSTART;TZID=Europe/Madrid:20280319T112500
DTEND;TZID=Europe/Madrid:20280319T140000
DTSTAMP:20260415T200616
CREATED:20250325T095505Z
LAST-MODIFIED:20250407T102601Z
UID:10000479-1837077900-1837087200@iebjaen.org
SUMMARY:Culto de Adoración
DESCRIPTION:
URL:https://iebjaen.org/evento/culto-de-adoracion/2028-03-19/
LOCATION:Iglesia Evangélica Bautista de Jaén\, C/ Jesús de Nazaret\, 8\, Jaén\, 23009\, Spain
CATEGORIES:Culto de Adoración
ATTACH;FMTTYPE=image/jpeg:https://iebjaen.org/wp-content/uploads/2025/03/WhatsApp-Image-2025-04-07-at-12.24.22-1.jpeg
END:VEVENT
BEGIN:VEVENT
DTSTART;TZID=Europe/Madrid:20280323T190000
DTEND;TZID=Europe/Madrid:20280323T200000
DTSTAMP:20260415T200616
CREATED:20250407T101755Z
LAST-MODIFIED:20250407T101755Z
UID:10001216-1837450800-1837454400@iebjaen.org
SUMMARY:Estudio Bíblico
DESCRIPTION:
URL:https://iebjaen.org/evento/estudio-biblico-4/2028-03-23/
LOCATION:Iglesia Evangélica Bautista de Jaén\, C/ Jesús de Nazaret\, 8\, Jaén\, 23009\, Spain
ATTACH;FMTTYPE=image/webp:https://iebjaen.org/wp-content/uploads/2025/03/Estudio-Biblico-Jueves.webp
END:VEVENT
BEGIN:VEVENT
DTSTART;TZID=Europe/Madrid:20280326T112500
DTEND;TZID=Europe/Madrid:20280326T140000
DTSTAMP:20260415T200616
CREATED:20250325T095505Z
LAST-MODIFIED:20250407T102601Z
UID:10000480-1837682700-1837692000@iebjaen.org
SUMMARY:Culto de Adoración
DESCRIPTION:
URL:https://iebjaen.org/evento/culto-de-adoracion/2028-03-26/
LOCATION:Iglesia Evangélica Bautista de Jaén\, C/ Jesús de Nazaret\, 8\, Jaén\, 23009\, Spain
CATEGORIES:Culto de Adoración
ATTACH;FMTTYPE=image/jpeg:https://iebjaen.org/wp-content/uploads/2025/03/WhatsApp-Image-2025-04-07-at-12.24.22-1.jpeg
END:VEVENT
BEGIN:VEVENT
DTSTART;TZID=Europe/Madrid:20280330T190000
DTEND;TZID=Europe/Madrid:20280330T200000
DTSTAMP:20260415T200616
CREATED:20250331T071057Z
LAST-MODIFIED:20250407T095803Z
UID:10001020-1838055600-1838059200@iebjaen.org
SUMMARY:Culto de oración
DESCRIPTION:
URL:https://iebjaen.org/evento/estudio-biblico-2/2028-03-30/
LOCATION:Iglesia Evangélica Bautista de Jaén\, C/ Jesús de Nazaret\, 8\, Jaén\, 23009\, Spain
CATEGORIES:Estudio Bíblico
ATTACH;FMTTYPE=image/jpeg:https://iebjaen.org/wp-content/uploads/2025/03/WhatsApp-Image-2025-04-07-at-11.55.46.jpeg
END:VEVENT
BEGIN:VEVENT
DTSTART;TZID=Europe/Madrid:20280402T112500
DTEND;TZID=Europe/Madrid:20280402T140000
DTSTAMP:20260415T200616
CREATED:20250325T095505Z
LAST-MODIFIED:20250407T102601Z
UID:10000481-1838287500-1838296800@iebjaen.org
SUMMARY:Culto de Adoración
DESCRIPTION:
URL:https://iebjaen.org/evento/culto-de-adoracion/2028-04-02/
LOCATION:Iglesia Evangélica Bautista de Jaén\, C/ Jesús de Nazaret\, 8\, Jaén\, 23009\, Spain
CATEGORIES:Culto de Adoración
ATTACH;FMTTYPE=image/jpeg:https://iebjaen.org/wp-content/uploads/2025/03/WhatsApp-Image-2025-04-07-at-12.24.22-1.jpeg
END:VEVENT
BEGIN:VEVENT
DTSTART;TZID=Europe/Madrid:20280406T190000
DTEND;TZID=Europe/Madrid:20280406T200000
DTSTAMP:20260415T200616
CREATED:20250407T101755Z
LAST-MODIFIED:20250407T101755Z
UID:10001217-1838660400-1838664000@iebjaen.org
SUMMARY:Estudio Bíblico
DESCRIPTION:
URL:https://iebjaen.org/evento/estudio-biblico-4/2028-04-06/
LOCATION:Iglesia Evangélica Bautista de Jaén\, C/ Jesús de Nazaret\, 8\, Jaén\, 23009\, Spain
ATTACH;FMTTYPE=image/webp:https://iebjaen.org/wp-content/uploads/2025/03/Estudio-Biblico-Jueves.webp
END:VEVENT
BEGIN:VEVENT
DTSTART;TZID=Europe/Madrid:20280409T112500
DTEND;TZID=Europe/Madrid:20280409T140000
DTSTAMP:20260415T200616
CREATED:20250325T095505Z
LAST-MODIFIED:20250407T102601Z
UID:10000482-1838892300-1838901600@iebjaen.org
SUMMARY:Culto de Adoración
DESCRIPTION:
URL:https://iebjaen.org/evento/culto-de-adoracion/2028-04-09/
LOCATION:Iglesia Evangélica Bautista de Jaén\, C/ Jesús de Nazaret\, 8\, Jaén\, 23009\, Spain
CATEGORIES:Culto de Adoración
ATTACH;FMTTYPE=image/jpeg:https://iebjaen.org/wp-content/uploads/2025/03/WhatsApp-Image-2025-04-07-at-12.24.22-1.jpeg
END:VEVENT
BEGIN:VEVENT
DTSTART;TZID=Europe/Madrid:20280413T190000
DTEND;TZID=Europe/Madrid:20280413T200000
DTSTAMP:20260415T200616
CREATED:20250331T071057Z
LAST-MODIFIED:20250407T095803Z
UID:10001022-1839265200-1839268800@iebjaen.org
SUMMARY:Culto de oración
DESCRIPTION:
URL:https://iebjaen.org/evento/estudio-biblico-2/2028-04-13/
LOCATION:Iglesia Evangélica Bautista de Jaén\, C/ Jesús de Nazaret\, 8\, Jaén\, 23009\, Spain
CATEGORIES:Estudio Bíblico
ATTACH;FMTTYPE=image/jpeg:https://iebjaen.org/wp-content/uploads/2025/03/WhatsApp-Image-2025-04-07-at-11.55.46.jpeg
END:VEVENT
BEGIN:VEVENT
DTSTART;TZID=Europe/Madrid:20280416T112500
DTEND;TZID=Europe/Madrid:20280416T140000
DTSTAMP:20260415T200616
CREATED:20250325T095505Z
LAST-MODIFIED:20250407T102601Z
UID:10000483-1839497100-1839506400@iebjaen.org
SUMMARY:Culto de Adoración
DESCRIPTION:
URL:https://iebjaen.org/evento/culto-de-adoracion/2028-04-16/
LOCATION:Iglesia Evangélica Bautista de Jaén\, C/ Jesús de Nazaret\, 8\, Jaén\, 23009\, Spain
CATEGORIES:Culto de Adoración
ATTACH;FMTTYPE=image/jpeg:https://iebjaen.org/wp-content/uploads/2025/03/WhatsApp-Image-2025-04-07-at-12.24.22-1.jpeg
END:VEVENT
END:VCALENDAR