BEGIN:VCALENDAR
VERSION:2.0
PRODID:-//Iglesia Evangélica Bautista de Jaén - ECPv6.15.12.2//NONSGML v1.0//EN
CALSCALE:GREGORIAN
METHOD:PUBLISH
X-ORIGINAL-URL:https://iebjaen.org
X-WR-CALDESC:Eventos para Iglesia Evangélica Bautista de Jaén
REFRESH-INTERVAL;VALUE=DURATION:PT1H
X-Robots-Tag:noindex
X-PUBLISHED-TTL:PT1H
BEGIN:VTIMEZONE
TZID:Europe/Madrid
BEGIN:DAYLIGHT
TZOFFSETFROM:+0100
TZOFFSETTO:+0200
TZNAME:CEST
DTSTART:20240331T010000
END:DAYLIGHT
BEGIN:STANDARD
TZOFFSETFROM:+0200
TZOFFSETTO:+0100
TZNAME:CET
DTSTART:20241027T010000
END:STANDARD
BEGIN:DAYLIGHT
TZOFFSETFROM:+0100
TZOFFSETTO:+0200
TZNAME:CEST
DTSTART:20250330T010000
END:DAYLIGHT
BEGIN:STANDARD
TZOFFSETFROM:+0200
TZOFFSETTO:+0100
TZNAME:CET
DTSTART:20251026T010000
END:STANDARD
BEGIN:DAYLIGHT
TZOFFSETFROM:+0100
TZOFFSETTO:+0200
TZNAME:CEST
DTSTART:20260329T010000
END:DAYLIGHT
BEGIN:STANDARD
TZOFFSETFROM:+0200
TZOFFSETTO:+0100
TZNAME:CET
DTSTART:20261025T010000
END:STANDARD
END:VTIMEZONE
BEGIN:VEVENT
DTSTART;TZID=Europe/Madrid:20250703T190000
DTEND;TZID=Europe/Madrid:20250703T200000
DTSTAMP:20260422T040140
CREATED:20250407T101755Z
LAST-MODIFIED:20250407T101755Z
UID:10001145-1751569200-1751572800@iebjaen.org
SUMMARY:Estudio Bíblico
DESCRIPTION:
URL:https://iebjaen.org/evento/estudio-biblico-4/2025-07-03/
LOCATION:Iglesia Evangélica Bautista de Jaén\, C/ Jesús de Nazaret\, 8\, Jaén\, 23009\, Spain
ATTACH;FMTTYPE=image/webp:https://iebjaen.org/wp-content/uploads/2025/03/Estudio-Biblico-Jueves.webp
END:VEVENT
BEGIN:VEVENT
DTSTART;VALUE=DATE:20250705
DTEND;VALUE=DATE:20250707
DTSTAMP:20260422T040140
CREATED:20250325T113243Z
LAST-MODIFIED:20250407T160350Z
UID:10000588-1751673600-1751846399@iebjaen.org
SUMMARY:Celebración 91 Aniversario IEB Jaén
DESCRIPTION:
URL:https://iebjaen.org/evento/91-aniversario-ieb-jaen/
LOCATION:Iglesia Evangélica Bautista de Jaén\, C/ Jesús de Nazaret\, 8\, Jaén\, 23009\, Spain
CATEGORIES:IEBJ
END:VEVENT
BEGIN:VEVENT
DTSTART;TZID=Europe/Madrid:20250710T190000
DTEND;TZID=Europe/Madrid:20250710T200000
DTSTAMP:20260422T040140
CREATED:20250331T071057Z
LAST-MODIFIED:20250407T095803Z
UID:10000878-1752174000-1752177600@iebjaen.org
SUMMARY:Culto de oración
DESCRIPTION:
URL:https://iebjaen.org/evento/estudio-biblico-2/2025-07-10/
LOCATION:Iglesia Evangélica Bautista de Jaén\, C/ Jesús de Nazaret\, 8\, Jaén\, 23009\, Spain
CATEGORIES:Estudio Bíblico
ATTACH;FMTTYPE=image/jpeg:https://iebjaen.org/wp-content/uploads/2025/03/WhatsApp-Image-2025-04-07-at-11.55.46.jpeg
END:VEVENT
BEGIN:VEVENT
DTSTART;TZID=Europe/Madrid:20250712T190000
DTEND;TZID=Europe/Madrid:20250712T213000
DTSTAMP:20260422T040140
CREATED:20250407T160714Z
LAST-MODIFIED:20250407T160714Z
UID:10001287-1752346800-1752355800@iebjaen.org
SUMMARY:Reunión de Hombres
DESCRIPTION:
URL:https://iebjaen.org/evento/reunion-de-hombres-4/
LOCATION:Iglesia Evangélica Bautista de Jaén\, C/ Jesús de Nazaret\, 8\, Jaén\, 23009\, Spain
CATEGORIES:Hombres
ATTACH;FMTTYPE=image/webp:https://iebjaen.org/wp-content/uploads/2025/03/Capitulo-4.webp
END:VEVENT
BEGIN:VEVENT
DTSTART;TZID=Europe/Madrid:20250713T112500
DTEND;TZID=Europe/Madrid:20250713T140000
DTSTAMP:20260422T040140
CREATED:20250325T095505Z
LAST-MODIFIED:20250407T102601Z
UID:10000339-1752405900-1752415200@iebjaen.org
SUMMARY:Culto de Adoración
DESCRIPTION:
URL:https://iebjaen.org/evento/culto-de-adoracion/2025-07-13/
LOCATION:Iglesia Evangélica Bautista de Jaén\, C/ Jesús de Nazaret\, 8\, Jaén\, 23009\, Spain
CATEGORIES:Culto de Adoración
ATTACH;FMTTYPE=image/jpeg:https://iebjaen.org/wp-content/uploads/2025/03/WhatsApp-Image-2025-04-07-at-12.24.22-1.jpeg
END:VEVENT
BEGIN:VEVENT
DTSTART;TZID=Europe/Madrid:20250717T190000
DTEND;TZID=Europe/Madrid:20250717T200000
DTSTAMP:20260422T040140
CREATED:20250407T101755Z
LAST-MODIFIED:20250407T101755Z
UID:10001146-1752778800-1752782400@iebjaen.org
SUMMARY:Estudio Bíblico
DESCRIPTION:
URL:https://iebjaen.org/evento/estudio-biblico-4/2025-07-17/
LOCATION:Iglesia Evangélica Bautista de Jaén\, C/ Jesús de Nazaret\, 8\, Jaén\, 23009\, Spain
ATTACH;FMTTYPE=image/webp:https://iebjaen.org/wp-content/uploads/2025/03/Estudio-Biblico-Jueves.webp
END:VEVENT
BEGIN:VEVENT
DTSTART;TZID=Europe/Madrid:20250719T170000
DTEND;TZID=Europe/Madrid:20250719T190000
DTSTAMP:20260422T040140
CREATED:20250325T114729Z
LAST-MODIFIED:20250325T115244Z
UID:10000589-1752944400-1752951600@iebjaen.org
SUMMARY:Reunión de Mujeres
DESCRIPTION:Te invitamos a nuestra reunión de mujeres cristianas\, un espacio de comunión\, oración y crecimiento espiritual. Nos reunimos para fortalecer nuestra fe\, compartir experiencias y edificarnos mutuamente en el amor de Cristo. \nVen y disfruta de un tiempo de enseñanza\, compañerismo y aliento en un ambiente de hermandad. ¡Te esperamos con los brazos abiertos! ✨🙏
URL:https://iebjaen.org/evento/reunion-de-mujeres/
LOCATION:Iglesia Evangélica Bautista de Jaén\, C/ Jesús de Nazaret\, 8\, Jaén\, 23009\, Spain
CATEGORIES:Mujeres
ATTACH;FMTTYPE=image/webp:https://iebjaen.org/wp-content/uploads/2025/03/Reuniao-de-Mujeres.webp
END:VEVENT
BEGIN:VEVENT
DTSTART;VALUE=DATE:20250720
DTEND;VALUE=DATE:20250721
DTSTAMP:20260422T040140
CREATED:20250407T160935Z
LAST-MODIFIED:20250407T160935Z
UID:10001288-1752969600-1753055999@iebjaen.org
SUMMARY:Reunión de Adolescentes
DESCRIPTION:
URL:https://iebjaen.org/evento/reunion-de-adolescentes-4/
LOCATION:Iglesia Evangélica Bautista de Jaén\, C/ Jesús de Nazaret\, 8\, Jaén\, 23009\, Spain
CATEGORIES:Adolescentes
END:VEVENT
BEGIN:VEVENT
DTSTART;TZID=Europe/Madrid:20250720T112500
DTEND;TZID=Europe/Madrid:20250720T140000
DTSTAMP:20260422T040140
CREATED:20250325T095505Z
LAST-MODIFIED:20250407T102601Z
UID:10000340-1753010700-1753020000@iebjaen.org
SUMMARY:Culto de Adoración
DESCRIPTION:
URL:https://iebjaen.org/evento/culto-de-adoracion/2025-07-20/
LOCATION:Iglesia Evangélica Bautista de Jaén\, C/ Jesús de Nazaret\, 8\, Jaén\, 23009\, Spain
CATEGORIES:Culto de Adoración
ATTACH;FMTTYPE=image/jpeg:https://iebjaen.org/wp-content/uploads/2025/03/WhatsApp-Image-2025-04-07-at-12.24.22-1.jpeg
END:VEVENT
BEGIN:VEVENT
DTSTART;TZID=Europe/Madrid:20250724T190000
DTEND;TZID=Europe/Madrid:20250724T200000
DTSTAMP:20260422T040140
CREATED:20250331T071057Z
LAST-MODIFIED:20250407T095803Z
UID:10000880-1753383600-1753387200@iebjaen.org
SUMMARY:Culto de oración
DESCRIPTION:
URL:https://iebjaen.org/evento/estudio-biblico-2/2025-07-24/
LOCATION:Iglesia Evangélica Bautista de Jaén\, C/ Jesús de Nazaret\, 8\, Jaén\, 23009\, Spain
CATEGORIES:Estudio Bíblico
ATTACH;FMTTYPE=image/jpeg:https://iebjaen.org/wp-content/uploads/2025/03/WhatsApp-Image-2025-04-07-at-11.55.46.jpeg
END:VEVENT
BEGIN:VEVENT
DTSTART;TZID=Europe/Madrid:20250727T112500
DTEND;TZID=Europe/Madrid:20250727T140000
DTSTAMP:20260422T040140
CREATED:20250325T095505Z
LAST-MODIFIED:20250407T102601Z
UID:10000341-1753615500-1753624800@iebjaen.org
SUMMARY:Culto de Adoración
DESCRIPTION:
URL:https://iebjaen.org/evento/culto-de-adoracion/2025-07-27/
LOCATION:Iglesia Evangélica Bautista de Jaén\, C/ Jesús de Nazaret\, 8\, Jaén\, 23009\, Spain
CATEGORIES:Culto de Adoración
ATTACH;FMTTYPE=image/jpeg:https://iebjaen.org/wp-content/uploads/2025/03/WhatsApp-Image-2025-04-07-at-12.24.22-1.jpeg
END:VEVENT
BEGIN:VEVENT
DTSTART;TZID=Europe/Madrid:20250731T190000
DTEND;TZID=Europe/Madrid:20250731T200000
DTSTAMP:20260422T040140
CREATED:20250407T101755Z
LAST-MODIFIED:20250407T101755Z
UID:10001147-1753988400-1753992000@iebjaen.org
SUMMARY:Estudio Bíblico
DESCRIPTION:
URL:https://iebjaen.org/evento/estudio-biblico-4/2025-07-31/
LOCATION:Iglesia Evangélica Bautista de Jaén\, C/ Jesús de Nazaret\, 8\, Jaén\, 23009\, Spain
ATTACH;FMTTYPE=image/webp:https://iebjaen.org/wp-content/uploads/2025/03/Estudio-Biblico-Jueves.webp
END:VEVENT
BEGIN:VEVENT
DTSTART;TZID=Europe/Madrid:20250803T112500
DTEND;TZID=Europe/Madrid:20250803T140000
DTSTAMP:20260422T040140
CREATED:20250325T095505Z
LAST-MODIFIED:20250407T102601Z
UID:10000342-1754220300-1754229600@iebjaen.org
SUMMARY:Culto de Adoración
DESCRIPTION:
URL:https://iebjaen.org/evento/culto-de-adoracion/2025-08-03/
LOCATION:Iglesia Evangélica Bautista de Jaén\, C/ Jesús de Nazaret\, 8\, Jaén\, 23009\, Spain
CATEGORIES:Culto de Adoración
ATTACH;FMTTYPE=image/jpeg:https://iebjaen.org/wp-content/uploads/2025/03/WhatsApp-Image-2025-04-07-at-12.24.22-1.jpeg
END:VEVENT
BEGIN:VEVENT
DTSTART;TZID=Europe/Madrid:20250810T112500
DTEND;TZID=Europe/Madrid:20250810T140000
DTSTAMP:20260422T040140
CREATED:20250325T095505Z
LAST-MODIFIED:20250407T102601Z
UID:10000343-1754825100-1754834400@iebjaen.org
SUMMARY:Culto de Adoración
DESCRIPTION:
URL:https://iebjaen.org/evento/culto-de-adoracion/2025-08-10/
LOCATION:Iglesia Evangélica Bautista de Jaén\, C/ Jesús de Nazaret\, 8\, Jaén\, 23009\, Spain
CATEGORIES:Culto de Adoración
ATTACH;FMTTYPE=image/jpeg:https://iebjaen.org/wp-content/uploads/2025/03/WhatsApp-Image-2025-04-07-at-12.24.22-1.jpeg
END:VEVENT
BEGIN:VEVENT
DTSTART;TZID=Europe/Madrid:20250817T112500
DTEND;TZID=Europe/Madrid:20250817T140000
DTSTAMP:20260422T040140
CREATED:20250325T095505Z
LAST-MODIFIED:20250407T102601Z
UID:10000344-1755429900-1755439200@iebjaen.org
SUMMARY:Culto de Adoración
DESCRIPTION:
URL:https://iebjaen.org/evento/culto-de-adoracion/2025-08-17/
LOCATION:Iglesia Evangélica Bautista de Jaén\, C/ Jesús de Nazaret\, 8\, Jaén\, 23009\, Spain
CATEGORIES:Culto de Adoración
ATTACH;FMTTYPE=image/jpeg:https://iebjaen.org/wp-content/uploads/2025/03/WhatsApp-Image-2025-04-07-at-12.24.22-1.jpeg
END:VEVENT
BEGIN:VEVENT
DTSTART;TZID=Europe/Madrid:20250824T112500
DTEND;TZID=Europe/Madrid:20250824T140000
DTSTAMP:20260422T040140
CREATED:20250325T095505Z
LAST-MODIFIED:20250407T102601Z
UID:10000345-1756034700-1756044000@iebjaen.org
SUMMARY:Culto de Adoración
DESCRIPTION:
URL:https://iebjaen.org/evento/culto-de-adoracion/2025-08-24/
LOCATION:Iglesia Evangélica Bautista de Jaén\, C/ Jesús de Nazaret\, 8\, Jaén\, 23009\, Spain
CATEGORIES:Culto de Adoración
ATTACH;FMTTYPE=image/jpeg:https://iebjaen.org/wp-content/uploads/2025/03/WhatsApp-Image-2025-04-07-at-12.24.22-1.jpeg
END:VEVENT
BEGIN:VEVENT
DTSTART;TZID=Europe/Madrid:20250831T112500
DTEND;TZID=Europe/Madrid:20250831T140000
DTSTAMP:20260422T040140
CREATED:20250325T095505Z
LAST-MODIFIED:20250407T102601Z
UID:10000346-1756639500-1756648800@iebjaen.org
SUMMARY:Culto de Adoración
DESCRIPTION:
URL:https://iebjaen.org/evento/culto-de-adoracion/2025-08-31/
LOCATION:Iglesia Evangélica Bautista de Jaén\, C/ Jesús de Nazaret\, 8\, Jaén\, 23009\, Spain
CATEGORIES:Culto de Adoración
ATTACH;FMTTYPE=image/jpeg:https://iebjaen.org/wp-content/uploads/2025/03/WhatsApp-Image-2025-04-07-at-12.24.22-1.jpeg
END:VEVENT
BEGIN:VEVENT
DTSTART;TZID=Europe/Madrid:20250904T190000
DTEND;TZID=Europe/Madrid:20250904T200000
DTSTAMP:20260422T040140
CREATED:20250331T071057Z
LAST-MODIFIED:20250407T095803Z
UID:10000886-1757012400-1757016000@iebjaen.org
SUMMARY:Culto de oración
DESCRIPTION:
URL:https://iebjaen.org/evento/estudio-biblico-2/2025-09-04/
LOCATION:Iglesia Evangélica Bautista de Jaén\, C/ Jesús de Nazaret\, 8\, Jaén\, 23009\, Spain
CATEGORIES:Estudio Bíblico
ATTACH;FMTTYPE=image/jpeg:https://iebjaen.org/wp-content/uploads/2025/03/WhatsApp-Image-2025-04-07-at-11.55.46.jpeg
END:VEVENT
BEGIN:VEVENT
DTSTART;TZID=Europe/Madrid:20250905T180000
DTEND;TZID=Europe/Madrid:20250907T170000
DTSTAMP:20260422T040140
CREATED:20250407T161403Z
LAST-MODIFIED:20250407T161403Z
UID:10001289-1757095200-1757264400@iebjaen.org
SUMMARY:RETIRO DE IGLESIA
DESCRIPTION:
URL:https://iebjaen.org/evento/retiro-de-iglesia/
LOCATION:Centro Cristiano Monteolivos\, Crta de Priego\, Zagrilla Baja\, Córdoba\, 14816
CATEGORIES:IEBJ
END:VEVENT
BEGIN:VEVENT
DTSTART;TZID=Europe/Madrid:20250907T112500
DTEND;TZID=Europe/Madrid:20250907T140000
DTSTAMP:20260422T040140
CREATED:20250325T095505Z
LAST-MODIFIED:20250407T102601Z
UID:10000347-1757244300-1757253600@iebjaen.org
SUMMARY:Culto de Adoración
DESCRIPTION:
URL:https://iebjaen.org/evento/culto-de-adoracion/2025-09-07/
LOCATION:Iglesia Evangélica Bautista de Jaén\, C/ Jesús de Nazaret\, 8\, Jaén\, 23009\, Spain
CATEGORIES:Culto de Adoración
ATTACH;FMTTYPE=image/jpeg:https://iebjaen.org/wp-content/uploads/2025/03/WhatsApp-Image-2025-04-07-at-12.24.22-1.jpeg
END:VEVENT
BEGIN:VEVENT
DTSTART;TZID=Europe/Madrid:20250911T190000
DTEND;TZID=Europe/Madrid:20250911T200000
DTSTAMP:20260422T040140
CREATED:20250407T101755Z
LAST-MODIFIED:20250407T101755Z
UID:10001150-1757617200-1757620800@iebjaen.org
SUMMARY:Estudio Bíblico
DESCRIPTION:
URL:https://iebjaen.org/evento/estudio-biblico-4/2025-09-11/
LOCATION:Iglesia Evangélica Bautista de Jaén\, C/ Jesús de Nazaret\, 8\, Jaén\, 23009\, Spain
ATTACH;FMTTYPE=image/webp:https://iebjaen.org/wp-content/uploads/2025/03/Estudio-Biblico-Jueves.webp
END:VEVENT
BEGIN:VEVENT
DTSTART;TZID=Europe/Madrid:20250914T112500
DTEND;TZID=Europe/Madrid:20250914T140000
DTSTAMP:20260422T040140
CREATED:20250325T095505Z
LAST-MODIFIED:20250407T102601Z
UID:10000348-1757849100-1757858400@iebjaen.org
SUMMARY:Culto de Adoración
DESCRIPTION:
URL:https://iebjaen.org/evento/culto-de-adoracion/2025-09-14/
LOCATION:Iglesia Evangélica Bautista de Jaén\, C/ Jesús de Nazaret\, 8\, Jaén\, 23009\, Spain
CATEGORIES:Culto de Adoración
ATTACH;FMTTYPE=image/jpeg:https://iebjaen.org/wp-content/uploads/2025/03/WhatsApp-Image-2025-04-07-at-12.24.22-1.jpeg
END:VEVENT
BEGIN:VEVENT
DTSTART;TZID=Europe/Madrid:20250918T190000
DTEND;TZID=Europe/Madrid:20250918T200000
DTSTAMP:20260422T040140
CREATED:20250331T071057Z
LAST-MODIFIED:20250407T095803Z
UID:10000888-1758222000-1758225600@iebjaen.org
SUMMARY:Culto de oración
DESCRIPTION:
URL:https://iebjaen.org/evento/estudio-biblico-2/2025-09-18/
LOCATION:Iglesia Evangélica Bautista de Jaén\, C/ Jesús de Nazaret\, 8\, Jaén\, 23009\, Spain
CATEGORIES:Estudio Bíblico
ATTACH;FMTTYPE=image/jpeg:https://iebjaen.org/wp-content/uploads/2025/03/WhatsApp-Image-2025-04-07-at-11.55.46.jpeg
END:VEVENT
BEGIN:VEVENT
DTSTART;TZID=Europe/Madrid:20250921T112500
DTEND;TZID=Europe/Madrid:20250921T140000
DTSTAMP:20260422T040140
CREATED:20250325T095505Z
LAST-MODIFIED:20250407T102601Z
UID:10000349-1758453900-1758463200@iebjaen.org
SUMMARY:Culto de Adoración
DESCRIPTION:
URL:https://iebjaen.org/evento/culto-de-adoracion/2025-09-21/
LOCATION:Iglesia Evangélica Bautista de Jaén\, C/ Jesús de Nazaret\, 8\, Jaén\, 23009\, Spain
CATEGORIES:Culto de Adoración
ATTACH;FMTTYPE=image/jpeg:https://iebjaen.org/wp-content/uploads/2025/03/WhatsApp-Image-2025-04-07-at-12.24.22-1.jpeg
END:VEVENT
BEGIN:VEVENT
DTSTART;TZID=Europe/Madrid:20250925T190000
DTEND;TZID=Europe/Madrid:20250925T200000
DTSTAMP:20260422T040140
CREATED:20250407T101755Z
LAST-MODIFIED:20250407T101755Z
UID:10001151-1758826800-1758830400@iebjaen.org
SUMMARY:Estudio Bíblico
DESCRIPTION:
URL:https://iebjaen.org/evento/estudio-biblico-4/2025-09-25/
LOCATION:Iglesia Evangélica Bautista de Jaén\, C/ Jesús de Nazaret\, 8\, Jaén\, 23009\, Spain
ATTACH;FMTTYPE=image/webp:https://iebjaen.org/wp-content/uploads/2025/03/Estudio-Biblico-Jueves.webp
END:VEVENT
BEGIN:VEVENT
DTSTART;TZID=Europe/Madrid:20250927T180000
DTEND;TZID=Europe/Madrid:20250927T233000
DTSTAMP:20260422T040140
CREATED:20250923T164058Z
LAST-MODIFIED:20250923T164058Z
UID:10001291-1758996000-1759015800@iebjaen.org
SUMMARY:Reunión Jóvenes
DESCRIPTION:
URL:https://iebjaen.org/evento/reunion-jovenes/
LOCATION:Iglesia Evangélica Bautista de Jaén\, C/ Jesús de Nazaret\, 8\, Jaén\, 23009\, Spain
CATEGORIES:Jovenes
END:VEVENT
BEGIN:VEVENT
DTSTART;TZID=Europe/Madrid:20250928T112500
DTEND;TZID=Europe/Madrid:20250928T140000
DTSTAMP:20260422T040140
CREATED:20250325T095505Z
LAST-MODIFIED:20250407T102601Z
UID:10000350-1759058700-1759068000@iebjaen.org
SUMMARY:Culto de Adoración
DESCRIPTION:
URL:https://iebjaen.org/evento/culto-de-adoracion/2025-09-28/
LOCATION:Iglesia Evangélica Bautista de Jaén\, C/ Jesús de Nazaret\, 8\, Jaén\, 23009\, Spain
CATEGORIES:Culto de Adoración
ATTACH;FMTTYPE=image/jpeg:https://iebjaen.org/wp-content/uploads/2025/03/WhatsApp-Image-2025-04-07-at-12.24.22-1.jpeg
END:VEVENT
BEGIN:VEVENT
DTSTART;TZID=Europe/Madrid:20251002T190000
DTEND;TZID=Europe/Madrid:20251002T200000
DTSTAMP:20260422T040140
CREATED:20250331T071057Z
LAST-MODIFIED:20250407T095803Z
UID:10000890-1759431600-1759435200@iebjaen.org
SUMMARY:Culto de oración
DESCRIPTION:
URL:https://iebjaen.org/evento/estudio-biblico-2/2025-10-02/
LOCATION:Iglesia Evangélica Bautista de Jaén\, C/ Jesús de Nazaret\, 8\, Jaén\, 23009\, Spain
CATEGORIES:Estudio Bíblico
ATTACH;FMTTYPE=image/jpeg:https://iebjaen.org/wp-content/uploads/2025/03/WhatsApp-Image-2025-04-07-at-11.55.46.jpeg
END:VEVENT
BEGIN:VEVENT
DTSTART;TZID=Europe/Madrid:20251004T100000
DTEND;TZID=Europe/Madrid:20251004T120000
DTSTAMP:20260422T040140
CREATED:20250923T164241Z
LAST-MODIFIED:20250923T164241Z
UID:10001292-1759572000-1759579200@iebjaen.org
SUMMARY:Jornada de mantenimiento
DESCRIPTION:Abierto a todos los voluntarios que quieran servir en tareas de orden\, mantenimiento y limpieza del local.
URL:https://iebjaen.org/evento/jornada-de-mantenimiento/
LOCATION:Iglesia Evangélica Bautista de Jaén\, C/ Jesús de Nazaret\, 8\, Jaén\, 23009\, Spain
END:VEVENT
BEGIN:VEVENT
DTSTART;TZID=Europe/Madrid:20251005T112500
DTEND;TZID=Europe/Madrid:20251005T140000
DTSTAMP:20260422T040140
CREATED:20250325T095505Z
LAST-MODIFIED:20250407T102601Z
UID:10000351-1759663500-1759672800@iebjaen.org
SUMMARY:Culto de Adoración
DESCRIPTION:
URL:https://iebjaen.org/evento/culto-de-adoracion/2025-10-05/
LOCATION:Iglesia Evangélica Bautista de Jaén\, C/ Jesús de Nazaret\, 8\, Jaén\, 23009\, Spain
CATEGORIES:Culto de Adoración
ATTACH;FMTTYPE=image/jpeg:https://iebjaen.org/wp-content/uploads/2025/03/WhatsApp-Image-2025-04-07-at-12.24.22-1.jpeg
END:VEVENT
END:VCALENDAR