BEGIN:VCALENDAR
VERSION:2.0
PRODID:-//Iglesia Evangélica Bautista de Jaén - ECPv6.15.12.2//NONSGML v1.0//EN
CALSCALE:GREGORIAN
METHOD:PUBLISH
X-WR-CALNAME:Iglesia Evangélica Bautista de Jaén
X-ORIGINAL-URL:https://iebjaen.org
X-WR-CALDESC:Eventos para Iglesia Evangélica Bautista de Jaén
REFRESH-INTERVAL;VALUE=DURATION:PT1H
X-Robots-Tag:noindex
X-PUBLISHED-TTL:PT1H
BEGIN:VTIMEZONE
TZID:Europe/Madrid
BEGIN:DAYLIGHT
TZOFFSETFROM:+0100
TZOFFSETTO:+0200
TZNAME:CEST
DTSTART:20240331T010000
END:DAYLIGHT
BEGIN:STANDARD
TZOFFSETFROM:+0200
TZOFFSETTO:+0100
TZNAME:CET
DTSTART:20241027T010000
END:STANDARD
BEGIN:DAYLIGHT
TZOFFSETFROM:+0100
TZOFFSETTO:+0200
TZNAME:CEST
DTSTART:20250330T010000
END:DAYLIGHT
BEGIN:STANDARD
TZOFFSETFROM:+0200
TZOFFSETTO:+0100
TZNAME:CET
DTSTART:20251026T010000
END:STANDARD
BEGIN:DAYLIGHT
TZOFFSETFROM:+0100
TZOFFSETTO:+0200
TZNAME:CEST
DTSTART:20260329T010000
END:DAYLIGHT
BEGIN:STANDARD
TZOFFSETFROM:+0200
TZOFFSETTO:+0100
TZNAME:CET
DTSTART:20261025T010000
END:STANDARD
END:VTIMEZONE
BEGIN:VEVENT
DTSTART;TZID=Europe/Madrid:20250515T190000
DTEND;TZID=Europe/Madrid:20250515T200000
DTSTAMP:20260422T105023
CREATED:20250331T071057Z
LAST-MODIFIED:20250407T095803Z
UID:10000870-1747335600-1747339200@iebjaen.org
SUMMARY:Culto de oración
DESCRIPTION:
URL:https://iebjaen.org/evento/estudio-biblico-2/2025-05-15/
LOCATION:Iglesia Evangélica Bautista de Jaén\, C/ Jesús de Nazaret\, 8\, Jaén\, 23009\, Spain
CATEGORIES:Estudio Bíblico
ATTACH;FMTTYPE=image/jpeg:https://iebjaen.org/wp-content/uploads/2025/03/WhatsApp-Image-2025-04-07-at-11.55.46.jpeg
END:VEVENT
BEGIN:VEVENT
DTSTART;VALUE=DATE:20250517
DTEND;VALUE=DATE:20250518
DTSTAMP:20260422T105023
CREATED:20250407T103153Z
LAST-MODIFIED:20250407T103218Z
UID:10001277-1747440000-1747526399@iebjaen.org
SUMMARY:Reunión de Adolescentes
DESCRIPTION:
URL:https://iebjaen.org/evento/reunion-de-adolescentes/
END:VEVENT
BEGIN:VEVENT
DTSTART;TZID=Europe/Madrid:20250517T170000
DTEND;TZID=Europe/Madrid:20250517T190000
DTSTAMP:20260422T105023
CREATED:20250325T114859Z
LAST-MODIFIED:20250325T115206Z
UID:10000590-1747501200-1747508400@iebjaen.org
SUMMARY:Reunión de Mujeres
DESCRIPTION:Te invitamos a nuestra reunión de mujeres cristianas\, un espacio de comunión\, oración y crecimiento espiritual. Nos reunimos para fortalecer nuestra fe\, compartir experiencias y edificarnos mutuamente en el amor de Cristo. \nVen y disfruta de un tiempo de enseñanza\, compañerismo y aliento en un ambiente de hermandad. ¡Te esperamos con los brazos abiertos! ✨🙏
URL:https://iebjaen.org/evento/reunion-de-mujeres-2/
LOCATION:Iglesia Evangélica Bautista de Jaén\, C/ Jesús de Nazaret\, 8\, Jaén\, 23009\, Spain
CATEGORIES:Mujeres
ATTACH;FMTTYPE=image/webp:https://iebjaen.org/wp-content/uploads/2025/03/Reuniao-de-Mujeres.webp
END:VEVENT
BEGIN:VEVENT
DTSTART;TZID=Europe/Madrid:20250518T112500
DTEND;TZID=Europe/Madrid:20250518T140000
DTSTAMP:20260422T105023
CREATED:20250325T095505Z
LAST-MODIFIED:20250407T102601Z
UID:10000331-1747567500-1747576800@iebjaen.org
SUMMARY:Culto de Adoración
DESCRIPTION:
URL:https://iebjaen.org/evento/culto-de-adoracion/2025-05-18/
LOCATION:Iglesia Evangélica Bautista de Jaén\, C/ Jesús de Nazaret\, 8\, Jaén\, 23009\, Spain
CATEGORIES:Culto de Adoración
ATTACH;FMTTYPE=image/jpeg:https://iebjaen.org/wp-content/uploads/2025/03/WhatsApp-Image-2025-04-07-at-12.24.22-1.jpeg
END:VEVENT
BEGIN:VEVENT
DTSTART;TZID=Europe/Madrid:20250522T190000
DTEND;TZID=Europe/Madrid:20250522T200000
DTSTAMP:20260422T105023
CREATED:20250407T101755Z
LAST-MODIFIED:20250407T101755Z
UID:10001142-1747940400-1747944000@iebjaen.org
SUMMARY:Estudio Bíblico
DESCRIPTION:
URL:https://iebjaen.org/evento/estudio-biblico-4/2025-05-22/
LOCATION:Iglesia Evangélica Bautista de Jaén\, C/ Jesús de Nazaret\, 8\, Jaén\, 23009\, Spain
ATTACH;FMTTYPE=image/webp:https://iebjaen.org/wp-content/uploads/2025/03/Estudio-Biblico-Jueves.webp
END:VEVENT
BEGIN:VEVENT
DTSTART;VALUE=DATE:20250524
DTEND;VALUE=DATE:20250525
DTSTAMP:20260422T105023
CREATED:20250407T103317Z
LAST-MODIFIED:20250407T103317Z
UID:10001278-1748044800-1748131199@iebjaen.org
SUMMARY:Reunión de Jóvenes
DESCRIPTION:
URL:https://iebjaen.org/evento/reunion-de-jovenes-3/
LOCATION:Iglesia Evangélica Bautista de Jaén\, C/ Jesús de Nazaret\, 8\, Jaén\, 23009\, Spain
CATEGORIES:Jovenes
ATTACH;FMTTYPE=image/jpeg:https://iebjaen.org/wp-content/uploads/2025/04/WhatsApp-Image-2025-04-07-at-12.11.33.jpeg
END:VEVENT
BEGIN:VEVENT
DTSTART;TZID=Europe/Madrid:20250525T112500
DTEND;TZID=Europe/Madrid:20250525T140000
DTSTAMP:20260422T105023
CREATED:20250325T095505Z
LAST-MODIFIED:20250407T102601Z
UID:10000332-1748172300-1748181600@iebjaen.org
SUMMARY:Culto de Adoración
DESCRIPTION:
URL:https://iebjaen.org/evento/culto-de-adoracion/2025-05-25/
LOCATION:Iglesia Evangélica Bautista de Jaén\, C/ Jesús de Nazaret\, 8\, Jaén\, 23009\, Spain
CATEGORIES:Culto de Adoración
ATTACH;FMTTYPE=image/jpeg:https://iebjaen.org/wp-content/uploads/2025/03/WhatsApp-Image-2025-04-07-at-12.24.22-1.jpeg
END:VEVENT
BEGIN:VEVENT
DTSTART;TZID=Europe/Madrid:20250529T190000
DTEND;TZID=Europe/Madrid:20250529T200000
DTSTAMP:20260422T105023
CREATED:20250331T071057Z
LAST-MODIFIED:20250407T095803Z
UID:10000872-1748545200-1748548800@iebjaen.org
SUMMARY:Culto de oración
DESCRIPTION:
URL:https://iebjaen.org/evento/estudio-biblico-2/2025-05-29/
LOCATION:Iglesia Evangélica Bautista de Jaén\, C/ Jesús de Nazaret\, 8\, Jaén\, 23009\, Spain
CATEGORIES:Estudio Bíblico
ATTACH;FMTTYPE=image/jpeg:https://iebjaen.org/wp-content/uploads/2025/03/WhatsApp-Image-2025-04-07-at-11.55.46.jpeg
END:VEVENT
BEGIN:VEVENT
DTSTART;VALUE=DATE:20250531
DTEND;VALUE=DATE:20250601
DTSTAMP:20260422T105023
CREATED:20250415T105150Z
LAST-MODIFIED:20250415T105150Z
UID:10001290-1748649600-1748735999@iebjaen.org
SUMMARY:Día de Fraternidad (salida de campo)
DESCRIPTION:Salida de campo al Paraje Natural de Almuradiel y ruta a la cascada de la Cimbarra (Aldeaquemada\, Jaén)
URL:https://iebjaen.org/evento/dia-de-fraternidad-salida-de-campo/
LOCATION:Iglesia Evangélica Bautista de Jaén\, C/ Jesús de Nazaret\, 8\, Jaén\, 23009\, Spain
ATTACH;FMTTYPE=image/jpeg:https://iebjaen.org/wp-content/uploads/2025/04/WhatsApp-Image-2025-04-15-at-12.50.32.jpeg
END:VEVENT
BEGIN:VEVENT
DTSTART;TZID=Europe/Madrid:20250601T112500
DTEND;TZID=Europe/Madrid:20250601T140000
DTSTAMP:20260422T105023
CREATED:20250325T095505Z
LAST-MODIFIED:20250407T102601Z
UID:10000333-1748777100-1748786400@iebjaen.org
SUMMARY:Culto de Adoración
DESCRIPTION:
URL:https://iebjaen.org/evento/culto-de-adoracion/2025-06-01/
LOCATION:Iglesia Evangélica Bautista de Jaén\, C/ Jesús de Nazaret\, 8\, Jaén\, 23009\, Spain
CATEGORIES:Culto de Adoración
ATTACH;FMTTYPE=image/jpeg:https://iebjaen.org/wp-content/uploads/2025/03/WhatsApp-Image-2025-04-07-at-12.24.22-1.jpeg
END:VEVENT
BEGIN:VEVENT
DTSTART;TZID=Europe/Madrid:20250605T190000
DTEND;TZID=Europe/Madrid:20250605T200000
DTSTAMP:20260422T105023
CREATED:20250407T101755Z
LAST-MODIFIED:20250407T101755Z
UID:10001143-1749150000-1749153600@iebjaen.org
SUMMARY:Estudio Bíblico
DESCRIPTION:
URL:https://iebjaen.org/evento/estudio-biblico-4/2025-06-05/
LOCATION:Iglesia Evangélica Bautista de Jaén\, C/ Jesús de Nazaret\, 8\, Jaén\, 23009\, Spain
ATTACH;FMTTYPE=image/webp:https://iebjaen.org/wp-content/uploads/2025/03/Estudio-Biblico-Jueves.webp
END:VEVENT
BEGIN:VEVENT
DTSTART;VALUE=DATE:20250607
DTEND;VALUE=DATE:20250608
DTSTAMP:20260422T105023
CREATED:20250407T103718Z
LAST-MODIFIED:20250407T103718Z
UID:10001279-1749254400-1749340799@iebjaen.org
SUMMARY:Barbacoa Hombres
DESCRIPTION:
URL:https://iebjaen.org/evento/barbacoa-hombres/
LOCATION:Iglesia Evangélica Bautista de Jaén\, C/ Jesús de Nazaret\, 8\, Jaén\, 23009\, Spain
ATTACH;FMTTYPE=image/jpeg:https://iebjaen.org/wp-content/uploads/2025/04/WhatsApp-Image-2025-04-07-at-12.36.37.jpeg
END:VEVENT
BEGIN:VEVENT
DTSTART;TZID=Europe/Madrid:20250608T112500
DTEND;TZID=Europe/Madrid:20250608T140000
DTSTAMP:20260422T105023
CREATED:20250325T095505Z
LAST-MODIFIED:20250407T102601Z
UID:10000334-1749381900-1749391200@iebjaen.org
SUMMARY:Culto de Adoración
DESCRIPTION:
URL:https://iebjaen.org/evento/culto-de-adoracion/2025-06-08/
LOCATION:Iglesia Evangélica Bautista de Jaén\, C/ Jesús de Nazaret\, 8\, Jaén\, 23009\, Spain
CATEGORIES:Culto de Adoración
ATTACH;FMTTYPE=image/jpeg:https://iebjaen.org/wp-content/uploads/2025/03/WhatsApp-Image-2025-04-07-at-12.24.22-1.jpeg
END:VEVENT
BEGIN:VEVENT
DTSTART;TZID=Europe/Madrid:20250608T140000
DTEND;TZID=Europe/Madrid:20250608T180000
DTSTAMP:20260422T105023
CREATED:20250407T103803Z
LAST-MODIFIED:20250407T103803Z
UID:10001280-1749391200-1749405600@iebjaen.org
SUMMARY:Reunión de Adolescentes
DESCRIPTION:
URL:https://iebjaen.org/evento/reunion-de-adolescentes-2/
LOCATION:Iglesia Evangélica Bautista de Jaén\, C/ Jesús de Nazaret\, 8\, Jaén\, 23009\, Spain
END:VEVENT
BEGIN:VEVENT
DTSTART;TZID=Europe/Madrid:20250612T190000
DTEND;TZID=Europe/Madrid:20250612T200000
DTSTAMP:20260422T105023
CREATED:20250331T071057Z
LAST-MODIFIED:20250407T095803Z
UID:10000874-1749754800-1749758400@iebjaen.org
SUMMARY:Culto de oración
DESCRIPTION:
URL:https://iebjaen.org/evento/estudio-biblico-2/2025-06-12/
LOCATION:Iglesia Evangélica Bautista de Jaén\, C/ Jesús de Nazaret\, 8\, Jaén\, 23009\, Spain
CATEGORIES:Estudio Bíblico
ATTACH;FMTTYPE=image/jpeg:https://iebjaen.org/wp-content/uploads/2025/03/WhatsApp-Image-2025-04-07-at-11.55.46.jpeg
END:VEVENT
BEGIN:VEVENT
DTSTART;VALUE=DATE:20250614
DTEND;VALUE=DATE:20250615
DTSTAMP:20260422T105023
CREATED:20250325T110623Z
LAST-MODIFIED:20250407T103905Z
UID:10000586-1749859200-1749945599@iebjaen.org
SUMMARY:España Oramos Por Ti
DESCRIPTION:
URL:https://iebjaen.org/evento/espana-oramos-por-ti/
LOCATION:Iglesia Evangélica Bautista de Jaén\, C/ Jesús de Nazaret\, 8\, Jaén\, 23009\, Spain
CATEGORIES:IEBJ
ATTACH;FMTTYPE=image/webp:https://iebjaen.org/wp-content/uploads/2025/03/66575b8100e1a_oracionespanaG.webp
END:VEVENT
BEGIN:VEVENT
DTSTART;TZID=Europe/Madrid:20250614T180000
DTEND;TZID=Europe/Madrid:20250614T230000
DTSTAMP:20260422T105023
CREATED:20250407T104023Z
LAST-MODIFIED:20250407T104023Z
UID:10001281-1749924000-1749942000@iebjaen.org
SUMMARY:Reunión de Jóvenes
DESCRIPTION:
URL:https://iebjaen.org/evento/reunion-de-jovenes-4/
LOCATION:Iglesia Evangélica Bautista de Jaén\, C/ Jesús de Nazaret\, 8\, Jaén\, 23009\, Spain
ATTACH;FMTTYPE=image/jpeg:https://iebjaen.org/wp-content/uploads/2025/04/WhatsApp-Image-2025-04-07-at-12.11.33.jpeg
END:VEVENT
BEGIN:VEVENT
DTSTART;TZID=Europe/Madrid:20250615T112500
DTEND;TZID=Europe/Madrid:20250615T140000
DTSTAMP:20260422T105023
CREATED:20250325T095505Z
LAST-MODIFIED:20250407T102601Z
UID:10000335-1749986700-1749996000@iebjaen.org
SUMMARY:Culto de Adoración
DESCRIPTION:
URL:https://iebjaen.org/evento/culto-de-adoracion/2025-06-15/
LOCATION:Iglesia Evangélica Bautista de Jaén\, C/ Jesús de Nazaret\, 8\, Jaén\, 23009\, Spain
CATEGORIES:Culto de Adoración
ATTACH;FMTTYPE=image/jpeg:https://iebjaen.org/wp-content/uploads/2025/03/WhatsApp-Image-2025-04-07-at-12.24.22-1.jpeg
END:VEVENT
BEGIN:VEVENT
DTSTART;TZID=Europe/Madrid:20250619T190000
DTEND;TZID=Europe/Madrid:20250619T200000
DTSTAMP:20260422T105023
CREATED:20250407T101755Z
LAST-MODIFIED:20250407T101755Z
UID:10001144-1750359600-1750363200@iebjaen.org
SUMMARY:Estudio Bíblico
DESCRIPTION:
URL:https://iebjaen.org/evento/estudio-biblico-4/2025-06-19/
LOCATION:Iglesia Evangélica Bautista de Jaén\, C/ Jesús de Nazaret\, 8\, Jaén\, 23009\, Spain
ATTACH;FMTTYPE=image/webp:https://iebjaen.org/wp-content/uploads/2025/03/Estudio-Biblico-Jueves.webp
END:VEVENT
BEGIN:VEVENT
DTSTART;VALUE=DATE:20250621
DTEND;VALUE=DATE:20250622
DTSTAMP:20260422T105023
CREATED:20250407T104231Z
LAST-MODIFIED:20250407T104231Z
UID:10001283-1750464000-1750550399@iebjaen.org
SUMMARY:Reunión de Adolescentes
DESCRIPTION:
URL:https://iebjaen.org/evento/reunion-de-adolescentes-3/
END:VEVENT
BEGIN:VEVENT
DTSTART;TZID=Europe/Madrid:20250621T170000
DTEND;TZID=Europe/Madrid:20250621T190000
DTSTAMP:20260422T105023
CREATED:20250325T115923Z
LAST-MODIFIED:20250325T120013Z
UID:10000591-1750525200-1750532400@iebjaen.org
SUMMARY:Reunión de Mujeres
DESCRIPTION:Te invitamos a nuestra reunión de mujeres cristianas\, un espacio de comunión\, oración y crecimiento espiritual. Nos reunimos para fortalecer nuestra fe\, compartir experiencias y edificarnos mutuamente en el amor de Cristo. \nVen y disfruta de un tiempo de enseñanza\, compañerismo y aliento en un ambiente de hermandad. ¡Te esperamos con los brazos abiertos! ✨🙏
URL:https://iebjaen.org/evento/reunion-de-mujeres-3/
LOCATION:Iglesia Evangélica Bautista de Jaén\, C/ Jesús de Nazaret\, 8\, Jaén\, 23009\, Spain
CATEGORIES:Mujeres
ATTACH;FMTTYPE=image/webp:https://iebjaen.org/wp-content/uploads/2025/03/Reuniao-de-Mujeres.webp
END:VEVENT
BEGIN:VEVENT
DTSTART;TZID=Europe/Madrid:20250621T170000
DTEND;TZID=Europe/Madrid:20250621T200000
DTSTAMP:20260422T105023
CREATED:20250407T104135Z
LAST-MODIFIED:20250407T104135Z
UID:10001282-1750525200-1750536000@iebjaen.org
SUMMARY:Reunión de Mujeres
DESCRIPTION:
URL:https://iebjaen.org/evento/reunion-de-mujeres-6/
LOCATION:Iglesia Evangélica Bautista de Jaén\, C/ Jesús de Nazaret\, 8\, Jaén\, 23009\, Spain
CATEGORIES:Mujeres
ATTACH;FMTTYPE=image/webp:https://iebjaen.org/wp-content/uploads/2025/03/Reuniao-de-Mujeres.webp
END:VEVENT
BEGIN:VEVENT
DTSTART;TZID=Europe/Madrid:20250622T112500
DTEND;TZID=Europe/Madrid:20250622T140000
DTSTAMP:20260422T105023
CREATED:20250325T095505Z
LAST-MODIFIED:20250407T102601Z
UID:10000336-1750591500-1750600800@iebjaen.org
SUMMARY:Culto de Adoración
DESCRIPTION:
URL:https://iebjaen.org/evento/culto-de-adoracion/2025-06-22/
LOCATION:Iglesia Evangélica Bautista de Jaén\, C/ Jesús de Nazaret\, 8\, Jaén\, 23009\, Spain
CATEGORIES:Culto de Adoración
ATTACH;FMTTYPE=image/jpeg:https://iebjaen.org/wp-content/uploads/2025/03/WhatsApp-Image-2025-04-07-at-12.24.22-1.jpeg
END:VEVENT
BEGIN:VEVENT
DTSTART;TZID=Europe/Madrid:20250626T190000
DTEND;TZID=Europe/Madrid:20250626T200000
DTSTAMP:20260422T105023
CREATED:20250331T071057Z
LAST-MODIFIED:20250407T095803Z
UID:10000876-1750964400-1750968000@iebjaen.org
SUMMARY:Culto de oración
DESCRIPTION:
URL:https://iebjaen.org/evento/estudio-biblico-2/2025-06-26/
LOCATION:Iglesia Evangélica Bautista de Jaén\, C/ Jesús de Nazaret\, 8\, Jaén\, 23009\, Spain
CATEGORIES:Estudio Bíblico
ATTACH;FMTTYPE=image/jpeg:https://iebjaen.org/wp-content/uploads/2025/03/WhatsApp-Image-2025-04-07-at-11.55.46.jpeg
END:VEVENT
BEGIN:VEVENT
DTSTART;VALUE=DATE:20250628
DTEND;VALUE=DATE:20250629
DTSTAMP:20260422T105023
CREATED:20250407T104341Z
LAST-MODIFIED:20250407T104341Z
UID:10001284-1751068800-1751155199@iebjaen.org
SUMMARY:Fin de Curso - Jóvenes
DESCRIPTION:
URL:https://iebjaen.org/evento/fin-de-curso-jovenes/
LOCATION:Iglesia Evangélica Bautista de Jaén\, C/ Jesús de Nazaret\, 8\, Jaén\, 23009\, Spain
ATTACH;FMTTYPE=image/jpeg:https://iebjaen.org/wp-content/uploads/2025/04/WhatsApp-Image-2025-04-07-at-12.11.33.jpeg
END:VEVENT
BEGIN:VEVENT
DTSTART;TZID=Europe/Madrid:20250629T112500
DTEND;TZID=Europe/Madrid:20250629T140000
DTSTAMP:20260422T105023
CREATED:20250325T095505Z
LAST-MODIFIED:20250407T102601Z
UID:10000337-1751196300-1751205600@iebjaen.org
SUMMARY:Culto de Adoración
DESCRIPTION:
URL:https://iebjaen.org/evento/culto-de-adoracion/2025-06-29/
LOCATION:Iglesia Evangélica Bautista de Jaén\, C/ Jesús de Nazaret\, 8\, Jaén\, 23009\, Spain
CATEGORIES:Culto de Adoración
ATTACH;FMTTYPE=image/jpeg:https://iebjaen.org/wp-content/uploads/2025/03/WhatsApp-Image-2025-04-07-at-12.24.22-1.jpeg
END:VEVENT
BEGIN:VEVENT
DTSTART;TZID=Europe/Madrid:20250703T190000
DTEND;TZID=Europe/Madrid:20250703T200000
DTSTAMP:20260422T105023
CREATED:20250407T101755Z
LAST-MODIFIED:20250407T101755Z
UID:10001145-1751569200-1751572800@iebjaen.org
SUMMARY:Estudio Bíblico
DESCRIPTION:
URL:https://iebjaen.org/evento/estudio-biblico-4/2025-07-03/
LOCATION:Iglesia Evangélica Bautista de Jaén\, C/ Jesús de Nazaret\, 8\, Jaén\, 23009\, Spain
ATTACH;FMTTYPE=image/webp:https://iebjaen.org/wp-content/uploads/2025/03/Estudio-Biblico-Jueves.webp
END:VEVENT
BEGIN:VEVENT
DTSTART;VALUE=DATE:20250705
DTEND;VALUE=DATE:20250707
DTSTAMP:20260422T105023
CREATED:20250325T113243Z
LAST-MODIFIED:20250407T160350Z
UID:10000588-1751673600-1751846399@iebjaen.org
SUMMARY:Celebración 91 Aniversario IEB Jaén
DESCRIPTION:
URL:https://iebjaen.org/evento/91-aniversario-ieb-jaen/
LOCATION:Iglesia Evangélica Bautista de Jaén\, C/ Jesús de Nazaret\, 8\, Jaén\, 23009\, Spain
CATEGORIES:IEBJ
END:VEVENT
BEGIN:VEVENT
DTSTART;TZID=Europe/Madrid:20250710T190000
DTEND;TZID=Europe/Madrid:20250710T200000
DTSTAMP:20260422T105023
CREATED:20250331T071057Z
LAST-MODIFIED:20250407T095803Z
UID:10000878-1752174000-1752177600@iebjaen.org
SUMMARY:Culto de oración
DESCRIPTION:
URL:https://iebjaen.org/evento/estudio-biblico-2/2025-07-10/
LOCATION:Iglesia Evangélica Bautista de Jaén\, C/ Jesús de Nazaret\, 8\, Jaén\, 23009\, Spain
CATEGORIES:Estudio Bíblico
ATTACH;FMTTYPE=image/jpeg:https://iebjaen.org/wp-content/uploads/2025/03/WhatsApp-Image-2025-04-07-at-11.55.46.jpeg
END:VEVENT
BEGIN:VEVENT
DTSTART;TZID=Europe/Madrid:20250712T190000
DTEND;TZID=Europe/Madrid:20250712T213000
DTSTAMP:20260422T105023
CREATED:20250407T160714Z
LAST-MODIFIED:20250407T160714Z
UID:10001287-1752346800-1752355800@iebjaen.org
SUMMARY:Reunión de Hombres
DESCRIPTION:
URL:https://iebjaen.org/evento/reunion-de-hombres-4/
LOCATION:Iglesia Evangélica Bautista de Jaén\, C/ Jesús de Nazaret\, 8\, Jaén\, 23009\, Spain
CATEGORIES:Hombres
ATTACH;FMTTYPE=image/webp:https://iebjaen.org/wp-content/uploads/2025/03/Capitulo-4.webp
END:VEVENT
END:VCALENDAR